FILENAME: O4811250.SWS.933977.tif
QUADRANGLE_NAME: FISH LAKE
QUADRANT: SW
WEST_LONGITUDE: -112 52 30.00000
EAST_LONGITUDE: -112 48 45.00000
NORTH_LATITUDE: 48 11 15.00000
SOUTH_LATITUDE: 48 7 30.00000
PRODUCTION_DATE: 1998 11 02
RASTER_ORDER: LEFT_RIGHT/TOP_BOTTOM
BAND_ORGANIZATION: SINGLE FILE
BAND_CONTENT: BLACK&WHITE
BAND_CONTENT: UNDEFINED
BAND_CONTENT: UNDEFINED
BITS_PER_PIXEL: 8
SAMPLES_AND_LINES: 5520 7710
HORIZONTAL_DATUM: NAD83
HORIZONTAL_COORDINATE_SYSTEM: UTM
COORDINATE_ZONE: 12
HORIZONTAL_UNITS: METERS
HORIZONTAL_RESOLUTION: 1.00000
SECONDARY_HORIZONTAL_DATUM: NAD27
XY_ORIGIN: 360090.00000 5339160.00000
SECONDARY_XY_ORIGIN: 360152.28900 5338943.70000
NATION: US
STATE: MT
NW_QUAD_CORNER_XY: 360643.73000 5338840.21200
NE_QUAD_CORNER_XY: 365288.76500 5338728.76500
SE_QUAD_CORNERY_XY: 365125.00900 5331782.33800
SW_QUAD_CORNER_XY: 360474.32300 5331893.81200
SECONDARY_NW_QUAD_XY: 360639.32700 5338621.34400
SECONDARY_NE_QUAD_XY: 365284.51000 5338509.89400
SECONDARY_SE_QUAD_XY: 365120.75300 5331563.47900
SECONDARY_SW_QUAD_XY: 360469.92100 5331674.95700
RMSE_XY: 2.97200
IMAGE_SOURCE: BLACK AND WHITE FILM
SOURCE_IMAGE_ID: NAPP 9491 40
SOURCE_IMAGE_DATE: 1995 09 01
SOURCE_IMAGE_ID: NAPP 9490 4
SOURCE_IMAGE_DATE: 1995 08 31
SOURCE_IMAGE_ID: NAPP 8386 174
SOURCE_IMAGE_DATE: 1995 08 05
SOURCE_DEM_DATE: 1998 01 01
AGENCY: WESTERN MAPPING CENTER (WMC)
PRODUCER: ANALYTICAL SURVEYS INC.
PRODUCTION_SYSTEM: ORBIT OR_RECTIFY V.5.2
COMPRESSION: UNDEFINED
STANDARD_VERSION: 1996 12
METADATA_DATE: 1998 11 05
DATA_FILE_SIZE: 42564720
BYTE_COUNT: 5520
