FILENAME: O4811249.NWS.46639.tif
QUADRANGLE_NAME: SWIFT RESERVOIR
QUADRANT: NW
WEST_LONGITUDE: -113 0 0.00000
EAST_LONGITUDE: -112 56 15.00000
NORTH_LATITUDE: 48 15 0.00000
SOUTH_LATITUDE: 48 11 15.00000
PRODUCTION_DATE: 1994 12 12
RASTER_ORDER: LEFT_RIGHT/TOP_BOTTOM
BAND_ORGANIZATION: SINGLE FILE
BAND_CONTENT: BLACK&WHITE
BAND_CONTENT: UNDEFINED
BAND_CONTENT: UNDEFINED
BITS_PER_PIXEL: 8
SAMPLES_AND_LINES: 5490 7671
HORIZONTAL_DATUM: NAD83
HORIZONTAL_COORDINATE_SYSTEM: UTM
COORDINATE_ZONE: 12
HORIZONTAL_UNITS: METERS
HORIZONTAL_RESOLUTION: 1.00000
SECONDARY_HORIZONTAL_DATUM: NAD27
XY_ORIGIN: 350985.00000 5346321.00000
SECONDARY_XY_ORIGIN: 351047.60600 5346104.53000
NATION: US
STATE: MT
NW_QUAD_CORNER_XY: 351534.60000 5346020.85700
NE_QUAD_CORNER_XY: 356173.94200 5345901.87800
SE_QUAD_CORNERY_XY: 355998.71300 5338955.43800
SW_QUAD_CORNER_XY: 351353.71400 5339074.44600
SECONDARY_NW_QUAD_XY: 351529.90400 5345801.98500
SECONDARY_NE_QUAD_XY: 356169.39300 5345683.00200
SECONDARY_SE_QUAD_XY: 355994.16300 5338736.57400
SECONDARY_SW_QUAD_XY: 351349.01800 5338855.58600
RMSE_XY: 2.90000
IMAGE_SOURCE: BLACK AND WHITE FILM
SOURCE_IMAGE_ID: NAPP 2573 032
SOURCE_IMAGE_DATE: 1990 8 7
SOURCE_DEM_DATE: 1994 12 12
AGENCY: WESTERN MAPPING CENTER (WMC)
PRODUCER: Science Applications International
PRODUCTION_SYSTEM: GIS/MAGIC
COMPRESSION: UNDEFINED
STANDARD_VERSION: 1996 12
METADATA_DATE: 1997 7 8
DATA_FILE_SIZE: 42119280
BYTE_COUNT: 5490
