FILENAME: O4811249.SES.46640.tif
QUADRANGLE_NAME: SWIFT RESERVOIR
QUADRANT: SE
WEST_LONGITUDE: -112 56 15.00000
EAST_LONGITUDE: -112 52 30.00000
NORTH_LATITUDE: 48 11 15.00000
SOUTH_LATITUDE: 48 7 30.00000
PRODUCTION_DATE: 1994 12 12
RASTER_ORDER: LEFT_RIGHT/TOP_BOTTOM
BAND_ORGANIZATION: SINGLE FILE
BAND_CONTENT: BLACK&WHITE
BAND_CONTENT: UNDEFINED
BAND_CONTENT: UNDEFINED
BITS_PER_PIXEL: 8
SAMPLES_AND_LINES: 5490 7668
HORIZONTAL_DATUM: NAD83
HORIZONTAL_COORDINATE_SYSTEM: UTM
COORDINATE_ZONE: 12
HORIZONTAL_UNITS: METERS
HORIZONTAL_RESOLUTION: 1.00000
SECONDARY_HORIZONTAL_DATUM: NAD27
XY_ORIGIN: 355455.00000 5339256.00000
SECONDARY_XY_ORIGIN: 355517.40000 5339039.80300
NATION: US
STATE: MT
NW_QUAD_CORNER_XY: 355998.71300 5338955.43800
NE_QUAD_CORNER_XY: 360643.73000 5338840.21100
SE_QUAD_CORNERY_XY: 360474.32300 5331893.81100
SW_QUAD_CORNER_XY: 355823.65500 5332009.06600
SECONDARY_NW_QUAD_XY: 355994.16300 5338736.57400
SECONDARY_NE_QUAD_XY: 360639.32700 5338621.34400
SECONDARY_SE_QUAD_XY: 360469.92100 5331674.95600
SECONDARY_SW_QUAD_XY: 355819.10600 5331790.21400
RMSE_XY: 6.60000
IMAGE_SOURCE: BLACK AND WHITE FILM
SOURCE_IMAGE_ID: NAPP 2571 030
SOURCE_IMAGE_DATE: 1990 8 6
SOURCE_DEM_DATE: 1994 12 12
AGENCY: WESTERN MAPPING CENTER (WMC)
PRODUCER: Science Applications International
PRODUCTION_SYSTEM: GIS/MAGIC
COMPRESSION: UNDEFINED
STANDARD_VERSION: 1996 12
METADATA_DATE: 1997 7 8
DATA_FILE_SIZE: 42102810
BYTE_COUNT: 5490
