FILENAME: O4811249.SWS.46641.tif
QUADRANGLE_NAME: SWIFT RESERVOIR
QUADRANT: SW
WEST_LONGITUDE: -113 0 0.00000
EAST_LONGITUDE: -112 56 15.00000
NORTH_LATITUDE: 48 11 15.00000
SOUTH_LATITUDE: 48 7 30.00000
PRODUCTION_DATE: 1995 4 28
RASTER_ORDER: LEFT_RIGHT/TOP_BOTTOM
BAND_ORGANIZATION: SINGLE FILE
BAND_CONTENT: BLACK&WHITE
BAND_CONTENT: UNDEFINED
BAND_CONTENT: UNDEFINED
BITS_PER_PIXEL: 8
SAMPLES_AND_LINES: 5496 7672
HORIZONTAL_DATUM: NAD83
HORIZONTAL_COORDINATE_SYSTEM: UTM
COORDINATE_ZONE: 12
HORIZONTAL_UNITS: METERS
HORIZONTAL_RESOLUTION: 1.00000
SECONDARY_HORIZONTAL_DATUM: NAD27
XY_ORIGIN: 350804.00000 5339375.00000
SECONDARY_XY_ORIGIN: 350866.51000 5339158.90000
NATION: US
STATE: MT
NW_QUAD_CORNER_XY: 351353.71000 5339074.44000
NE_QUAD_CORNER_XY: 355998.71000 5338955.44000
SE_QUAD_CORNERY_XY: 355823.66000 5332009.06000
SW_QUAD_CORNER_XY: 351173.01000 5332128.10000
SECONDARY_NW_QUAD_XY: 351349.02000 5338855.58000
SECONDARY_NE_QUAD_XY: 355994.16000 5338736.57000
SECONDARY_SE_QUAD_XY: 355819.11000 5331790.21000
SECONDARY_SW_QUAD_XY: 351168.31000 5331909.25000
RMSE_XY: 5.30000
IMAGE_SOURCE: BLACK AND WHITE FILM
SOURCE_IMAGE_ID: NAPP 2573 30
SOURCE_IMAGE_DATE: 1990 8 7
SOURCE_IMAGE_ID: NAPP 2573 2573
SOURCE_IMAGE_DATE: 1990 8 7
SOURCE_IMAGE_ID: NAPP 2573 31
SOURCE_IMAGE_DATE: 1990 8 7
SOURCE_DEM_DATE: 1995 4 28
AGENCY: WESTERN MAPPING CENTER (WMC)
PRODUCER: Science Applications International
PRODUCTION_SYSTEM: GIS/MAGIC
COMPRESSION: UNDEFINED
STANDARD_VERSION: 1996 12
METADATA_DATE: 1997 7 4
DATA_FILE_SIZE: 42170808
BYTE_COUNT: 5496
