FILENAME: O4811248.SES.938748.tif
QUADRANGLE_NAME: BELGIAN HILL
QUADRANT: SE
WEST_LONGITUDE: -112 3 45.00000
EAST_LONGITUDE: -112 0 0.00000
NORTH_LATITUDE: 48 18 45.00000
SOUTH_LATITUDE: 48 15 0.00000
PRODUCTION_DATE: 1998 12 08
RASTER_ORDER: LEFT_RIGHT/TOP_BOTTOM
BAND_ORGANIZATION: SINGLE FILE
BAND_CONTENT: BLACK&WHITE
BAND_CONTENT: UNDEFINED
BAND_CONTENT: UNDEFINED
BITS_PER_PIXEL: 8
SAMPLES_AND_LINES: 5430 7620
HORIZONTAL_DATUM: NAD83
HORIZONTAL_COORDINATE_SYSTEM: UTM
COORDINATE_ZONE: 12
HORIZONTAL_UNITS: METERS
HORIZONTAL_RESOLUTION: 1.00000
SECONDARY_HORIZONTAL_DATUM: NAD27
XY_ORIGIN: 420750.00000 5351880.00000
SECONDARY_XY_ORIGIN: 420811.48000 5351662.54300
NATION: US
STATE: MT
NW_QUAD_CORNER_XY: 421222.63400 5351579.75200
NE_QUAD_CORNER_XY: 425856.54200 5351517.46000
SE_QUAD_CORNERY_XY: 425766.03300 5344570.62300
SW_QUAD_CORNER_XY: 421126.46700 5344632.93000
SECONDARY_NW_QUAD_XY: 421220.13900 5351360.82500
SECONDARY_NE_QUAD_XY: 425854.19300 5351298.53100
SECONDARY_SE_QUAD_XY: 425763.68400 5344351.70500
SECONDARY_SW_QUAD_XY: 421123.97200 5344414.01400
RMSE_XY: 1.80000
IMAGE_SOURCE: BLACK AND WHITE FILM
SOURCE_IMAGE_ID: NAPP 9487 76
SOURCE_IMAGE_DATE: 1995 08 27
SOURCE_DEM_DATE: 1992 00 00
AGENCY: WESTERN MAPPING CENTER (WMC)
PRODUCER: ANALYTICAL SURVEYS INC.
PRODUCTION_SYSTEM: ORBIT OR_RECTIFY V.5.2
COMPRESSION: UNDEFINED
STANDARD_VERSION: 1996 12
METADATA_DATE: 1998 12 11
DATA_FILE_SIZE: 41382030
BYTE_COUNT: 5430
