FILENAME: O4811248.SWS.938749.tif
QUADRANGLE_NAME: BELGIAN HILL
QUADRANT: SW
WEST_LONGITUDE: -112 7 30.00000
EAST_LONGITUDE: -112 3 45.00000
NORTH_LATITUDE: 48 18 45.00000
SOUTH_LATITUDE: 48 15 0.00000
PRODUCTION_DATE: 1998 12 07
RASTER_ORDER: LEFT_RIGHT/TOP_BOTTOM
BAND_ORGANIZATION: SINGLE FILE
BAND_CONTENT: BLACK&WHITE
BAND_CONTENT: UNDEFINED
BAND_CONTENT: UNDEFINED
BITS_PER_PIXEL: 8
SAMPLES_AND_LINES: 5430 7650
HORIZONTAL_DATUM: NAD83
HORIZONTAL_COORDINATE_SYSTEM: UTM
COORDINATE_ZONE: 12
HORIZONTAL_UNITS: METERS
HORIZONTAL_RESOLUTION: 1.00000
SECONDARY_HORIZONTAL_DATUM: NAD27
XY_ORIGIN: 416100.00000 5351970.00000
SECONDARY_XY_ORIGIN: 416161.56100 5351752.57700
NATION: US
STATE: MT
NW_QUAD_CORNER_XY: 416588.73800 5351645.82000
NE_QUAD_CORNER_XY: 421222.63400 5351579.75200
SE_QUAD_CORNERY_XY: 421126.46700 5344632.93000
SW_QUAD_CORNER_XY: 416486.91300 5344699.01400
SECONDARY_NW_QUAD_XY: 416586.09600 5351426.89500
SECONDARY_NE_QUAD_XY: 421220.13900 5351360.82500
SECONDARY_SE_QUAD_XY: 421123.97200 5344414.01400
SECONDARY_SW_QUAD_XY: 416484.27100 5344480.10000
RMSE_XY: 2.45000
IMAGE_SOURCE: BLACK AND WHITE FILM
SOURCE_IMAGE_ID: NAPP 9487 29
SOURCE_IMAGE_DATE: 1995 08 27
SOURCE_DEM_DATE: 1992 00 00
AGENCY: WESTERN MAPPING CENTER (WMC)
PRODUCER: ANALYTICAL SURVEYS INC.
PRODUCTION_SYSTEM: ORBIT OR_RECTIFY V.5.2
COMPRESSION: UNDEFINED
STANDARD_VERSION: 1996 12
METADATA_DATE: 1998 12 11
DATA_FILE_SIZE: 41544930
BYTE_COUNT: 5430
