FILENAME: O4811246.NES.943744.tif
QUADRANGLE_NAME: VALIER WEST
QUADRANT: NE
WEST_LONGITUDE: -112 18 45.00000
EAST_LONGITUDE: -112 15 0.00000
NORTH_LATITUDE: 48 22 30.00000
SOUTH_LATITUDE: 48 18 45.00000
PRODUCTION_DATE: 1998 12 10
RASTER_ORDER: LEFT_RIGHT/TOP_BOTTOM
BAND_ORGANIZATION: SINGLE FILE
BAND_CONTENT: BLACK&WHITE
BAND_CONTENT: UNDEFINED
BAND_CONTENT: UNDEFINED
BITS_PER_PIXEL: 8
SAMPLES_AND_LINES: 5460 7680
HORIZONTAL_DATUM: NAD83
HORIZONTAL_COORDINATE_SYSTEM: UTM
COORDINATE_ZONE: 12
HORIZONTAL_UNITS: METERS
HORIZONTAL_RESOLUTION: 1.00000
SECONDARY_HORIZONTAL_DATUM: NAD27
XY_ORIGIN: 402300.00000 5359140.00000
SECONDARY_XY_ORIGIN: 402361.82800 5358922.42000
NATION: US
STATE: MT
NW_QUAD_CORNER_XY: 402806.03600 5358813.50300
NE_QUAD_CORNER_XY: 407434.23200 5358736.12600
SE_QUAD_CORNERY_XY: 407320.97900 5351789.28400
SW_QUAD_CORNER_XY: 402687.11900 5351866.68000
SECONDARY_NW_QUAD_XY: 402802.95300 5358594.57500
SECONDARY_NE_QUAD_XY: 407431.29700 5358517.19500
SECONDARY_SE_QUAD_XY: 407318.04400 5351570.36300
SECONDARY_SW_QUAD_XY: 402684.03600 5351647.76200
RMSE_XY: 1.79000
IMAGE_SOURCE: BLACK AND WHITE FILM
SOURCE_IMAGE_ID: NAPP 8381 37
SOURCE_IMAGE_DATE: 1995 07 28
SOURCE_DEM_DATE: 1992 00 00
AGENCY: WESTERN MAPPING CENTER (WMC)
PRODUCER: ANALYTICAL SURVEYS INC.
PRODUCTION_SYSTEM: ORBIT OR_RECTIFY V.5.2
COMPRESSION: UNDEFINED
STANDARD_VERSION: 1996 12
METADATA_DATE: 1998 12 16
DATA_FILE_SIZE: 41938260
BYTE_COUNT: 5460
