FILENAME: O4811246.SWS.943747.tif
QUADRANGLE_NAME: VALIER WEST
QUADRANT: SW
WEST_LONGITUDE: -112 22 30.00000
EAST_LONGITUDE: -112 18 45.00000
NORTH_LATITUDE: 48 18 45.00000
SOUTH_LATITUDE: 48 15 0.00000
PRODUCTION_DATE: 1998 12 10
RASTER_ORDER: LEFT_RIGHT/TOP_BOTTOM
BAND_ORGANIZATION: SINGLE FILE
BAND_CONTENT: BLACK&WHITE
BAND_CONTENT: UNDEFINED
BAND_CONTENT: UNDEFINED
BITS_PER_PIXEL: 8
SAMPLES_AND_LINES: 5430 7680
HORIZONTAL_DATUM: NAD83
HORIZONTAL_COORDINATE_SYSTEM: UTM
COORDINATE_ZONE: 12
HORIZONTAL_UNITS: METERS
HORIZONTAL_RESOLUTION: 1.00000
SECONDARY_HORIZONTAL_DATUM: NAD27
XY_ORIGIN: 397560.00000 5352270.00000
SECONDARY_XY_ORIGIN: 397621.84400 5352052.60400
NATION: US
STATE: MT
NW_QUAD_CORNER_XY: 398053.27100 5351947.85300
NE_QUAD_CORNER_XY: 402687.11900 5351866.68000
SE_QUAD_CORNERY_XY: 402568.31800 5344919.92900
SW_QUAD_CORNER_XY: 397928.81200 5345001.12300
SECONDARY_NW_QUAD_XY: 398050.04200 5351728.93800
SECONDARY_NE_QUAD_XY: 402684.03600 5351647.76200
SECONDARY_SE_QUAD_XY: 402565.23600 5344701.02200
SECONDARY_SW_QUAD_XY: 397925.58300 5344782.21800
RMSE_XY: 1.32000
IMAGE_SOURCE: BLACK AND WHITE FILM
SOURCE_IMAGE_ID: NAPP 8381 83
SOURCE_IMAGE_DATE: 1995 07 28
SOURCE_DEM_DATE: 1992 00 00
AGENCY: WESTERN MAPPING CENTER (WMC)
PRODUCER: ANALYTICAL SURVEYS INC.
PRODUCTION_SYSTEM: ORBIT OR_RECTIFY V.5.2
COMPRESSION: UNDEFINED
STANDARD_VERSION: 1996 12
METADATA_DATE: 1998 12 16
DATA_FILE_SIZE: 41707830
BYTE_COUNT: 5430
