FILENAME: O4811245.NWS.943689.tif
QUADRANGLE_NAME: KUKA CROSSING
QUADRANT: NW
WEST_LONGITUDE: -112 30 0.00000
EAST_LONGITUDE: -112 26 15.00000
NORTH_LATITUDE: 48 22 30.00000
SOUTH_LATITUDE: 48 18 45.00000
PRODUCTION_DATE: 1998 12 08
RASTER_ORDER: LEFT_RIGHT/TOP_BOTTOM
BAND_ORGANIZATION: SINGLE FILE
BAND_CONTENT: BLACK&WHITE
BAND_CONTENT: UNDEFINED
BAND_CONTENT: UNDEFINED
BITS_PER_PIXEL: 8
SAMPLES_AND_LINES: 5460 7650
HORIZONTAL_DATUM: NAD83
HORIZONTAL_COORDINATE_SYSTEM: UTM
COORDINATE_ZONE: 12
HORIZONTAL_UNITS: METERS
HORIZONTAL_RESOLUTION: 1.00000
SECONDARY_HORIZONTAL_DATUM: NAD27
XY_ORIGIN: 388410.00000 5359380.00000
SECONDARY_XY_ORIGIN: 388472.05300 5359162.38700
NATION: US
STATE: MT
NW_QUAD_CORNER_XY: 388921.53000 5359068.28800
NE_QUAD_CORNER_XY: 393549.68400 5358979.58400
SE_QUAD_CORNERY_XY: 393419.43800 5352032.80300
SW_QUAD_CORNER_XY: 388785.61900 5352121.53000
SECONDARY_NW_QUAD_XY: 388918.00700 5358849.36800
SECONDARY_NE_QUAD_XY: 393546.30800 5358760.66100
SECONDARY_SE_QUAD_XY: 393416.06200 5351813.89000
SECONDARY_SW_QUAD_XY: 388782.09600 5351902.62000
RMSE_XY: 1.40000
IMAGE_SOURCE: BLACK AND WHITE FILM
SOURCE_IMAGE_ID: NAPP 8384 90
SOURCE_IMAGE_DATE: 1995 08 04
SOURCE_DEM_DATE: 1992 00 00
AGENCY: WESTERN MAPPING CENTER (WMC)
PRODUCER: ANALYTICAL SURVEYS INC.
PRODUCTION_SYSTEM: ORBIT OR_RECTIFY V.5.2
COMPRESSION: UNDEFINED
STANDARD_VERSION: 1996 12
METADATA_DATE: 1998 12 10
DATA_FILE_SIZE: 41774460
BYTE_COUNT: 5460
