FILENAME: O4811245.SES.943690.tif
QUADRANGLE_NAME: KUKA CROSSING
QUADRANT: SE
WEST_LONGITUDE: -112 26 15.00000
EAST_LONGITUDE: -112 22 30.00000
NORTH_LATITUDE: 48 18 45.00000
SOUTH_LATITUDE: 48 15 0.00000
PRODUCTION_DATE: 1998 12 08
RASTER_ORDER: LEFT_RIGHT/TOP_BOTTOM
BAND_ORGANIZATION: SINGLE FILE
BAND_CONTENT: BLACK&WHITE
BAND_CONTENT: UNDEFINED
BAND_CONTENT: UNDEFINED
BITS_PER_PIXEL: 8
SAMPLES_AND_LINES: 5460 7680
HORIZONTAL_DATUM: NAD83
HORIZONTAL_COORDINATE_SYSTEM: UTM
COORDINATE_ZONE: 12
HORIZONTAL_UNITS: METERS
HORIZONTAL_RESOLUTION: 1.00000
SECONDARY_HORIZONTAL_DATUM: NAD27
XY_ORIGIN: 392910.00000 5352360.00000
SECONDARY_XY_ORIGIN: 392971.90500 5352142.58700
NATION: US
STATE: MT
NW_QUAD_CORNER_XY: 393419.43800 5352032.80300
NE_QUAD_CORNER_XY: 398053.27100 5351947.85300
SE_QUAD_CORNERY_XY: 397928.81200 5345001.12300
SW_QUAD_CORNER_XY: 393289.31900 5345086.09300
SECONDARY_NW_QUAD_XY: 393416.06200 5351813.89000
SECONDARY_NE_QUAD_XY: 398050.04200 5351728.93800
SECONDARY_SE_QUAD_XY: 397925.58300 5344782.21800
SECONDARY_SW_QUAD_XY: 393285.94400 5344867.19200
RMSE_XY: 1.17000
IMAGE_SOURCE: BLACK AND WHITE FILM
SOURCE_IMAGE_ID: NAPP 8384 61
SOURCE_IMAGE_DATE: 1995 08 04
SOURCE_DEM_DATE: 1992 00 00
AGENCY: WESTERN MAPPING CENTER (WMC)
PRODUCER: ANALYTICAL SURVEYS INC.
PRODUCTION_SYSTEM: ORBIT OR_RECTIFY V.5.2
COMPRESSION: UNDEFINED
STANDARD_VERSION: 1996 12
METADATA_DATE: 1998 12 10
DATA_FILE_SIZE: 41938260
BYTE_COUNT: 5460
