FILENAME: O4811244.NES.943720.tif
QUADRANGLE_NAME: ROBERE
QUADRANT: NE
WEST_LONGITUDE: -112 33 45.00000
EAST_LONGITUDE: -112 30 0.00000
NORTH_LATITUDE: 48 22 30.00000
SOUTH_LATITUDE: 48 18 45.00000
PRODUCTION_DATE: 1998 12 07
RASTER_ORDER: LEFT_RIGHT/TOP_BOTTOM
BAND_ORGANIZATION: SINGLE FILE
BAND_CONTENT: BLACK&WHITE
BAND_CONTENT: UNDEFINED
BAND_CONTENT: UNDEFINED
BITS_PER_PIXEL: 8
SAMPLES_AND_LINES: 5490 7650
HORIZONTAL_DATUM: NAD83
HORIZONTAL_COORDINATE_SYSTEM: UTM
COORDINATE_ZONE: 12
HORIZONTAL_UNITS: METERS
HORIZONTAL_RESOLUTION: 1.00000
SECONDARY_HORIZONTAL_DATUM: NAD27
XY_ORIGIN: 383760.00000 5359470.00000
SECONDARY_XY_ORIGIN: 383822.12800 5359252.45900
NATION: US
STATE: MT
NW_QUAD_CORNER_XY: 384293.39100 5359160.76900
NE_QUAD_CORNER_XY: 388921.53000 5359068.28800
SE_QUAD_CORNERY_XY: 388785.61900 5352121.53000
SW_QUAD_CORNER_XY: 384151.81500 5352214.03400
SECONDARY_NW_QUAD_XY: 384289.72200 5358941.85100
SECONDARY_NE_QUAD_XY: 388918.00700 5358849.36800
SECONDARY_SE_QUAD_XY: 388782.09600 5351902.62000
SECONDARY_SW_QUAD_XY: 384148.14500 5351995.12700
RMSE_XY: 1.90000
IMAGE_SOURCE: BLACK AND WHITE FILM
SOURCE_IMAGE_ID: NAPP 8384 181
SOURCE_IMAGE_DATE: 1995 08 05
SOURCE_DEM_DATE: 1992 00 00
AGENCY: WESTERN MAPPING CENTER (WMC)
PRODUCER: ANALYTICAL SURVEYS INC.
PRODUCTION_SYSTEM: ORBIT OR_RECTIFY V.5.2
COMPRESSION: UNDEFINED
STANDARD_VERSION: 1996 12
METADATA_DATE: 1998 12 14
DATA_FILE_SIZE: 42003990
BYTE_COUNT: 5490
