FILENAME: O4811244.SES.943722.tif
QUADRANGLE_NAME: ROBERE
QUADRANT: SE
WEST_LONGITUDE: -112 33 45.00000
EAST_LONGITUDE: -112 30 0.00000
NORTH_LATITUDE: 48 18 45.00000
SOUTH_LATITUDE: 48 15 0.00000
PRODUCTION_DATE: 1998 12 08
RASTER_ORDER: LEFT_RIGHT/TOP_BOTTOM
BAND_ORGANIZATION: SINGLE FILE
BAND_CONTENT: BLACK&WHITE
BAND_CONTENT: UNDEFINED
BAND_CONTENT: UNDEFINED
BITS_PER_PIXEL: 8
SAMPLES_AND_LINES: 5460 7680
HORIZONTAL_DATUM: NAD83
HORIZONTAL_COORDINATE_SYSTEM: UTM
COORDINATE_ZONE: 12
HORIZONTAL_UNITS: METERS
HORIZONTAL_RESOLUTION: 1.00000
SECONDARY_HORIZONTAL_DATUM: NAD27
XY_ORIGIN: 383640.00000 5352540.00000
SECONDARY_XY_ORIGIN: 383702.03800 5352322.64600
NATION: US
STATE: MT
NW_QUAD_CORNER_XY: 384151.81500 5352214.03400
NE_QUAD_CORNER_XY: 388785.61900 5352121.53000
SE_QUAD_CORNERY_XY: 388649.84100 5345174.84200
SW_QUAD_CORNER_XY: 384010.37700 5345267.36900
SECONDARY_NW_QUAD_XY: 384148.14500 5351995.12700
SECONDARY_NE_QUAD_XY: 388782.09600 5351902.62000
SECONDARY_SE_QUAD_XY: 388646.31800 5344955.94300
SECONDARY_SW_QUAD_XY: 384006.70800 5345048.47300
RMSE_XY: 1.07000
IMAGE_SOURCE: BLACK AND WHITE FILM
SOURCE_IMAGE_ID: NAPP 8384 179
SOURCE_IMAGE_DATE: 1995 08 05
SOURCE_DEM_DATE: 1992 00 00
AGENCY: WESTERN MAPPING CENTER (WMC)
PRODUCER: ANALYTICAL SURVEYS INC.
PRODUCTION_SYSTEM: ORBIT OR_RECTIFY V.5.2
COMPRESSION: UNDEFINED
STANDARD_VERSION: 1996 12
METADATA_DATE: 1998 12 14
DATA_FILE_SIZE: 41938260
BYTE_COUNT: 5460
