FILENAME: O4811243.SWS.943711.tif
QUADRANGLE_NAME: FOUR HORNS LAKE
QUADRANT: SW
WEST_LONGITUDE: -112 45 0.00000
EAST_LONGITUDE: -112 41 15.00000
NORTH_LATITUDE: 48 18 45.00000
SOUTH_LATITUDE: 48 15 0.00000
PRODUCTION_DATE: 1998 12 07
RASTER_ORDER: LEFT_RIGHT/TOP_BOTTOM
BAND_ORGANIZATION: SINGLE FILE
BAND_CONTENT: BLACK&WHITE
BAND_CONTENT: UNDEFINED
BAND_CONTENT: UNDEFINED
BITS_PER_PIXEL: 8
SAMPLES_AND_LINES: 5490 7680
HORIZONTAL_DATUM: NAD83
HORIZONTAL_COORDINATE_SYSTEM: UTM
COORDINATE_ZONE: 12
HORIZONTAL_UNITS: METERS
HORIZONTAL_RESOLUTION: 1.00000
SECONDARY_HORIZONTAL_DATUM: NAD27
XY_ORIGIN: 369720.00000 5352840.00000
SECONDARY_XY_ORIGIN: 369782.24300 5352622.84000
NATION: US
STATE: MT
NW_QUAD_CORNER_XY: 370250.50000 5352514.20900
NE_QUAD_CORNER_XY: 374884.25500 5352410.37300
SE_QUAD_CORNERY_XY: 374731.49700 5345463.75700
SW_QUAD_CORNER_XY: 370092.08200 5345567.61900
SECONDARY_NW_QUAD_XY: 370246.39100 5352295.31200
SECONDARY_NE_QUAD_XY: 374880.29200 5352191.47200
SECONDARY_SE_QUAD_XY: 374727.53400 5345244.86700
SECONDARY_SW_QUAD_XY: 370087.97200 5345348.73300
RMSE_XY: 2.22000
IMAGE_SOURCE: BLACK AND WHITE FILM
SOURCE_IMAGE_ID: NAPP 8385 69
SOURCE_IMAGE_DATE: 1995 08 05
SOURCE_DEM_DATE: 1992 00 00
AGENCY: WESTERN MAPPING CENTER (WMC)
PRODUCER: ANALYTICAL SURVEYS INC.
PRODUCTION_SYSTEM: ORBIT OR_RECTIFY V.5.2
COMPRESSION: UNDEFINED
STANDARD_VERSION: 1996 12
METADATA_DATE: 1998 12 14
DATA_FILE_SIZE: 42168690
BYTE_COUNT: 5490
