FILENAME: O4811241.SES.46636.tif
QUADRANGLE_NAME: MITTEN LAKE
QUADRANT: SE
WEST_LONGITUDE: -112 56 15.00000
EAST_LONGITUDE: -112 52 30.00000
NORTH_LATITUDE: 48 18 45.00000
SOUTH_LATITUDE: 48 15 0.00000
PRODUCTION_DATE: 1994 12 22
RASTER_ORDER: LEFT_RIGHT/TOP_BOTTOM
BAND_ORGANIZATION: SINGLE FILE
BAND_CONTENT: BLACK&WHITE
BAND_CONTENT: UNDEFINED
BAND_CONTENT: UNDEFINED
BITS_PER_PIXEL: 8
SAMPLES_AND_LINES: 5480 7667
HORIZONTAL_DATUM: NAD83
HORIZONTAL_COORDINATE_SYSTEM: UTM
COORDINATE_ZONE: 12
HORIZONTAL_UNITS: METERS
HORIZONTAL_RESOLUTION: 1.00000
SECONDARY_HORIZONTAL_DATUM: NAD27
XY_ORIGIN: 355805.00000 5353149.00000
SECONDARY_XY_ORIGIN: 355867.59200 5352932.17500
NATION: US
STATE: MT
NW_QUAD_CORNER_XY: 356349.34500 5352848.38500
NE_QUAD_CORNER_XY: 360983.04400 5352733.21500
SE_QUAD_CORNERY_XY: 360813.30400 5345786.67900
SW_QUAD_CORNER_XY: 356173.94200 5345901.87800
SECONDARY_NW_QUAD_XY: 356344.79500 5352629.49900
SECONDARY_NE_QUAD_XY: 360978.64100 5352514.32500
SECONDARY_SE_QUAD_XY: 360808.90100 5345567.80000
SECONDARY_SW_QUAD_XY: 356169.39300 5345683.00200
RMSE_XY: 2.40000
IMAGE_SOURCE: BLACK AND WHITE FILM
SOURCE_IMAGE_ID: NAPP 2569 107
SOURCE_IMAGE_DATE: 1990 7 12
SOURCE_DEM_DATE: 1994 12 22
AGENCY: WESTERN MAPPING CENTER (WMC)
PRODUCER: Science Applications International
PRODUCTION_SYSTEM: GIS/MAGIC
COMPRESSION: UNDEFINED
STANDARD_VERSION: 1996 12
METADATA_DATE: 1997 7 8
DATA_FILE_SIZE: 42020640
BYTE_COUNT: 5480
