FILENAME: O4811241.SWS.46637.tif
QUADRANGLE_NAME: MITTEN LAKE
QUADRANT: SW
WEST_LONGITUDE: -113 0 0.00000
EAST_LONGITUDE: -112 56 15.00000
NORTH_LATITUDE: 48 18 45.00000
SOUTH_LATITUDE: 48 15 0.00000
PRODUCTION_DATE: 1994 12 22
RASTER_ORDER: LEFT_RIGHT/TOP_BOTTOM
BAND_ORGANIZATION: SINGLE FILE
BAND_CONTENT: BLACK&WHITE
BAND_CONTENT: UNDEFINED
BAND_CONTENT: UNDEFINED
BITS_PER_PIXEL: 8
SAMPLES_AND_LINES: 5485 7671
HORIZONTAL_DATUM: NAD83
HORIZONTAL_COORDINATE_SYSTEM: UTM
COORDINATE_ZONE: 12
HORIZONTAL_UNITS: METERS
HORIZONTAL_RESOLUTION: 1.00000
SECONDARY_HORIZONTAL_DATUM: NAD27
XY_ORIGIN: 351166.00000 5353268.00000
SECONDARY_XY_ORIGIN: 351228.70700 5353051.28300
NATION: US
STATE: MT
NW_QUAD_CORNER_XY: 351715.66500 5352967.33400
NE_QUAD_CORNER_XY: 356349.34500 5352848.38500
SE_QUAD_CORNERY_XY: 356173.94200 5345901.87800
SW_QUAD_CORNER_XY: 351534.60000 5346020.85700
SECONDARY_NW_QUAD_XY: 351710.96800 5352748.45100
SECONDARY_NE_QUAD_XY: 356344.79500 5352629.49900
SECONDARY_SE_QUAD_XY: 356169.39300 5345683.00200
SECONDARY_SW_QUAD_XY: 351529.90400 5345801.98500
RMSE_XY: 1.50000
IMAGE_SOURCE: BLACK AND WHITE FILM
SOURCE_IMAGE_ID: NAPP 2569 110
SOURCE_IMAGE_DATE: 1990 7 12
SOURCE_DEM_DATE: 1994 12 22
AGENCY: WESTERN MAPPING CENTER (WMC)
PRODUCER: Science Applications International
PRODUCTION_SYSTEM: GIS/MAGIC
COMPRESSION: UNDEFINED
STANDARD_VERSION: 1996 12
METADATA_DATE: 1997 7 8
DATA_FILE_SIZE: 42080920
BYTE_COUNT: 5485
