FILENAME: O4811240.NES.46054.tif
QUADRANGLE_NAME: CACTUS FLAT
QUADRANT: NE
WEST_LONGITUDE: -112 3 45.00000
EAST_LONGITUDE: -112 0 0.00000
NORTH_LATITUDE: 48 30 0.00000
SOUTH_LATITUDE: 48 26 15.00000
PRODUCTION_DATE: 1995 6 28
RASTER_ORDER: LEFT_RIGHT/TOP_BOTTOM
BAND_ORGANIZATION: SINGLE FILE
BAND_CONTENT: BLACK&WHITE
BAND_CONTENT: UNDEFINED
BAND_CONTENT: UNDEFINED
BITS_PER_PIXEL: 8
SAMPLES_AND_LINES: 5324 7620
HORIZONTAL_DATUM: NAD83
HORIZONTAL_COORDINATE_SYSTEM: UTM
COORDINATE_ZONE: 12
HORIZONTAL_UNITS: METERS
HORIZONTAL_RESOLUTION: 1.00000
SECONDARY_HORIZONTAL_DATUM: NAD27
XY_ORIGIN: 421110.50000 5372725.50000
SECONDARY_XY_ORIGIN: 421172.00200 5372507.53900
NATION: US
STATE: MT
NW_QUAD_CORNER_XY: 421511.70200 5372420.65700
NE_QUAD_CORNER_XY: 426128.60200 5372358.41400
SE_QUAD_CORNERY_XY: 426037.82700 5365411.35600
SW_QUAD_CORNER_XY: 421415.25200 5365473.61600
SECONDARY_NW_QUAD_XY: 421509.20600 5372201.70200
SECONDARY_NE_QUAD_XY: 426126.25300 5372139.45700
SECONDARY_SE_QUAD_XY: 426035.47800 5365192.40700
SECONDARY_SW_QUAD_XY: 421412.75600 5365254.66900
RMSE_XY: 1.60000
IMAGE_SOURCE: BLACK AND WHITE FILM
SOURCE_IMAGE_ID: NAPP 2567 019
SOURCE_IMAGE_DATE: 1990 6 26
SOURCE_DEM_DATE: 1995 6 28
AGENCY: WESTERN MAPPING CENTER (WMC)
PRODUCER: Woolpert Consultants
PRODUCTION_SYSTEM: INTERGRAPH ISPM,ISIR
COMPRESSION: UNDEFINED
STANDARD_VERSION: 1996 12
METADATA_DATE: 1997 6 15
DATA_FILE_SIZE: 40574204
BYTE_COUNT: 5324
