FILENAME: O4811240.NWS.46055.tif
QUADRANGLE_NAME: CACTUS FLAT
QUADRANT: NW
WEST_LONGITUDE: -112 7 30.00000
EAST_LONGITUDE: -112 3 45.00000
NORTH_LATITUDE: 48 30 0.00000
SOUTH_LATITUDE: 48 26 15.00000
PRODUCTION_DATE: 1995 6 28
RASTER_ORDER: LEFT_RIGHT/TOP_BOTTOM
BAND_ORGANIZATION: SINGLE FILE
BAND_CONTENT: BLACK&WHITE
BAND_CONTENT: UNDEFINED
BAND_CONTENT: UNDEFINED
BITS_PER_PIXEL: 8
SAMPLES_AND_LINES: 5330 7624
HORIZONTAL_DATUM: NAD83
HORIZONTAL_COORDINATE_SYSTEM: UTM
COORDINATE_ZONE: 12
HORIZONTAL_UNITS: METERS
HORIZONTAL_RESOLUTION: 1.00000
SECONDARY_HORIZONTAL_DATUM: NAD27
XY_ORIGIN: 416488.50000 5372791.50000
SECONDARY_XY_ORIGIN: 416550.10700 5372573.53500
NATION: US
STATE: MT
NW_QUAD_CORNER_XY: 416894.81300 5372486.67400
NE_QUAD_CORNER_XY: 421511.70200 5372420.65700
SE_QUAD_CORNERY_XY: 421415.25200 5365473.61600
SW_QUAD_CORNER_XY: 416792.68800 5365539.65000
SECONDARY_NW_QUAD_XY: 416892.17000 5372267.72100
SECONDARY_NE_QUAD_XY: 421509.20600 5372201.70200
SECONDARY_SE_QUAD_XY: 421412.75600 5365254.66900
SECONDARY_SW_QUAD_XY: 416790.04600 5365320.70500
RMSE_XY: 1.60000
IMAGE_SOURCE: BLACK AND WHITE FILM
SOURCE_IMAGE_ID: NAPP 2566 048
SOURCE_IMAGE_DATE: 1990 6 26
SOURCE_DEM_DATE: 1995 6 28
AGENCY: WESTERN MAPPING CENTER (WMC)
PRODUCER: Woolpert Consultants
PRODUCTION_SYSTEM: INTERGRAPH ISPM,ISIR
COMPRESSION: UNDEFINED
STANDARD_VERSION: 1996 12
METADATA_DATE: 1997 6 15
DATA_FILE_SIZE: 40641250
BYTE_COUNT: 5330
