FILENAME: O4811240.SWS.46057.tif
QUADRANGLE_NAME: CACTUS FLAT
QUADRANT: SW
WEST_LONGITUDE: -112 7 30.00000
EAST_LONGITUDE: -112 3 45.00000
NORTH_LATITUDE: 48 26 15.00000
SOUTH_LATITUDE: 48 22 30.00000
PRODUCTION_DATE: 1995 6 28
RASTER_ORDER: LEFT_RIGHT/TOP_BOTTOM
BAND_ORGANIZATION: SINGLE FILE
BAND_CONTENT: BLACK&WHITE
BAND_CONTENT: UNDEFINED
BAND_CONTENT: UNDEFINED
BITS_PER_PIXEL: 8
SAMPLES_AND_LINES: 5334 7624
HORIZONTAL_DATUM: NAD83
HORIZONTAL_COORDINATE_SYSTEM: UTM
COORDINATE_ZONE: 12
HORIZONTAL_UNITS: METERS
HORIZONTAL_RESOLUTION: 1.00000
SECONDARY_HORIZONTAL_DATUM: NAD27
XY_ORIGIN: 416386.50000 5365844.50000
SECONDARY_XY_ORIGIN: 416448.09000 5365626.71400
NATION: US
STATE: MT
NW_QUAD_CORNER_XY: 416792.68800 5365539.65000
NE_QUAD_CORNER_XY: 421415.25200 5365473.61600
SE_QUAD_CORNERY_XY: 421318.89600 5358526.64700
SW_QUAD_CORNER_XY: 416690.66300 5358592.69800
SECONDARY_NW_QUAD_XY: 416790.04600 5365320.70500
SECONDARY_NE_QUAD_XY: 421412.75600 5365254.66900
SECONDARY_SE_QUAD_XY: 421316.40100 5358307.71000
SECONDARY_SW_QUAD_XY: 416688.02100 5358373.76300
RMSE_XY: 1.90000
IMAGE_SOURCE: BLACK AND WHITE FILM
SOURCE_IMAGE_ID: NAPP 2566 046
SOURCE_IMAGE_DATE: 1990 6 26
SOURCE_DEM_DATE: 1995 6 28
AGENCY: WESTERN MAPPING CENTER (WMC)
PRODUCER: Woolpert Consultants
PRODUCTION_SYSTEM: INTERGRAPH ISPM,ISIR
COMPRESSION: UNDEFINED
STANDARD_VERSION: 1996 12
METADATA_DATE: 1997 6 15
DATA_FILE_SIZE: 40671750
BYTE_COUNT: 5334
