FILENAME: O4811238.SES.943742.tif
QUADRANGLE_NAME: ROCK CITY
QUADRANT: SE
WEST_LONGITUDE: -112 18 45.00000
EAST_LONGITUDE: -112 15 0.00000
NORTH_LATITUDE: 48 26 15.00000
SOUTH_LATITUDE: 48 22 30.00000
PRODUCTION_DATE: 1998 12 14
RASTER_ORDER: LEFT_RIGHT/TOP_BOTTOM
BAND_ORGANIZATION: SINGLE FILE
BAND_CONTENT: BLACK&WHITE
BAND_CONTENT: UNDEFINED
BAND_CONTENT: UNDEFINED
BITS_PER_PIXEL: 8
SAMPLES_AND_LINES: 5430 7650
HORIZONTAL_DATUM: NAD83
HORIZONTAL_COORDINATE_SYSTEM: UTM
COORDINATE_ZONE: 12
HORIZONTAL_UNITS: METERS
HORIZONTAL_RESOLUTION: 1.00000
SECONDARY_HORIZONTAL_DATUM: NAD27
XY_ORIGIN: 402420.00000 5366070.00000
SECONDARY_XY_ORIGIN: 402481.87300 5365852.22200
NATION: US
STATE: MT
NW_QUAD_CORNER_XY: 402925.06900 5365760.39800
NE_QUAD_CORNER_XY: 407547.59600 5365683.04100
SE_QUAD_CORNERY_XY: 407434.23200 5358736.12600
SW_QUAD_CORNER_XY: 402806.03600 5358813.50300
SECONDARY_NW_QUAD_XY: 402921.98700 5365541.46000
SECONDARY_NE_QUAD_XY: 407544.66000 5365464.10100
SECONDARY_SE_QUAD_XY: 407431.29700 5358517.19500
SECONDARY_SW_QUAD_XY: 402802.95300 5358594.57500
RMSE_XY: 2.20000
IMAGE_SOURCE: BLACK AND WHITE FILM
SOURCE_IMAGE_ID: NAPP 8381 39
SOURCE_IMAGE_DATE: 1995 07 28
SOURCE_IMAGE_ID: NAPP 8381 40
SOURCE_IMAGE_DATE: 1995 07 28
SOURCE_IMAGE_ID: NAPP 8381 41
SOURCE_IMAGE_DATE: 1995 07 28
SOURCE_DEM_DATE: 1992 00 00
AGENCY: WESTERN MAPPING CENTER (WMC)
PRODUCER: ANALYTICAL SURVEYS INC.
PRODUCTION_SYSTEM: ORBIT OR_RECTIFY V.5.2
COMPRESSION: UNDEFINED
STANDARD_VERSION: 1996 12
METADATA_DATE: 1998 12 16
DATA_FILE_SIZE: 41544930
BYTE_COUNT: 5430
