FILENAME: O4811237.NES.943680.tif
QUADRANGLE_NAME: FLAG BUTTE
QUADRANT: NE
WEST_LONGITUDE: -112 26 15.00000
EAST_LONGITUDE: -112 22 30.00000
NORTH_LATITUDE: 48 30 0.00000
SOUTH_LATITUDE: 48 26 15.00000
PRODUCTION_DATE: 1998 12 08
RASTER_ORDER: LEFT_RIGHT/TOP_BOTTOM
BAND_ORGANIZATION: SINGLE FILE
BAND_CONTENT: BLACK&WHITE
BAND_CONTENT: UNDEFINED
BAND_CONTENT: UNDEFINED
BITS_PER_PIXEL: 8
SAMPLES_AND_LINES: 5430 7650
HORIZONTAL_DATUM: NAD83
HORIZONTAL_COORDINATE_SYSTEM: UTM
COORDINATE_ZONE: 12
HORIZONTAL_UNITS: METERS
HORIZONTAL_RESOLUTION: 1.00000
SECONDARY_HORIZONTAL_DATUM: NAD27
XY_ORIGIN: 393300.00000 5373180.00000
SECONDARY_XY_ORIGIN: 393362.12300 5372962.02300
NATION: US
STATE: MT
NW_QUAD_CORNER_XY: 393810.56000 5372873.35900
NE_QUAD_CORNER_XY: 398427.38200 5372788.47500
SE_QUAD_CORNERY_XY: 398302.55700 5365841.52900
SW_QUAD_CORNER_XY: 393680.05800 5365926.43600
SECONDARY_NW_QUAD_XY: 393807.18300 5372654.41800
SECONDARY_NE_QUAD_XY: 398424.15300 5372569.53100
SECONDARY_SE_QUAD_XY: 398299.32700 5365622.59400
SECONDARY_SW_QUAD_XY: 393676.68200 5365707.50400
RMSE_XY: 1.87000
IMAGE_SOURCE: BLACK AND WHITE FILM
SOURCE_IMAGE_ID: NAPP 8384 67
SOURCE_IMAGE_DATE: 1995 08 04
SOURCE_IMAGE_ID: NAPP 8384 68
SOURCE_IMAGE_DATE: 1995 08 04
SOURCE_DEM_DATE: 1992 00 00
AGENCY: WESTERN MAPPING CENTER (WMC)
PRODUCER: ANALYTICAL SURVEYS INC.
PRODUCTION_SYSTEM: ORBIT OR_RECTIFY V.5.2
COMPRESSION: UNDEFINED
STANDARD_VERSION: 1996 12
METADATA_DATE: 1998 12 10
DATA_FILE_SIZE: 41544930
BYTE_COUNT: 5430
