FILENAME: O4811237.SWS.943686.tif
QUADRANGLE_NAME: FLAG BUTTE
QUADRANT: SW
WEST_LONGITUDE: -112 30 0.00000
EAST_LONGITUDE: -112 26 15.00000
NORTH_LATITUDE: 48 26 15.00000
SOUTH_LATITUDE: 48 22 30.00000
PRODUCTION_DATE: 1998 12 08
RASTER_ORDER: LEFT_RIGHT/TOP_BOTTOM
BAND_ORGANIZATION: SINGLE FILE
BAND_CONTENT: BLACK&WHITE
BAND_CONTENT: UNDEFINED
BAND_CONTENT: UNDEFINED
BITS_PER_PIXEL: 8
SAMPLES_AND_LINES: 5460 7680
HORIZONTAL_DATUM: NAD83
HORIZONTAL_COORDINATE_SYSTEM: UTM
COORDINATE_ZONE: 12
HORIZONTAL_UNITS: METERS
HORIZONTAL_RESOLUTION: 1.00000
SECONDARY_HORIZONTAL_DATUM: NAD27
XY_ORIGIN: 388530.00000 5366340.00000
SECONDARY_XY_ORIGIN: 388592.14000 5366122.20400
NATION: US
STATE: MT
NW_QUAD_CORNER_XY: 389057.57500 5366015.11700
NE_QUAD_CORNER_XY: 393680.05800 5365926.43600
SE_QUAD_CORNERY_XY: 393549.68400 5358979.58400
SW_QUAD_CORNER_XY: 388921.53000 5359068.28800
SECONDARY_NW_QUAD_XY: 389054.05200 5365796.18800
SECONDARY_NE_QUAD_XY: 393676.68200 5365707.50400
SECONDARY_SE_QUAD_XY: 393546.30800 5358760.66100
SECONDARY_SW_QUAD_XY: 388918.00700 5358849.36800
RMSE_XY: 1.99000
IMAGE_SOURCE: BLACK AND WHITE FILM
SOURCE_IMAGE_ID: NAPP 8384 88
SOURCE_IMAGE_DATE: 1995 08 04
SOURCE_IMAGE_ID: NAPP 8384 90
SOURCE_IMAGE_DATE: 1995 08 04
SOURCE_DEM_DATE: 1992 00 00
AGENCY: WESTERN MAPPING CENTER (WMC)
PRODUCER: ANALYTICAL SURVEYS INC.
PRODUCTION_SYSTEM: ORBIT OR_RECTIFY V.5.2
COMPRESSION: UNDEFINED
STANDARD_VERSION: 1996 12
METADATA_DATE: 1998 12 10
DATA_FILE_SIZE: 41938260
BYTE_COUNT: 5460
