FILENAME: O4811236.NES.943716.tif
QUADRANGLE_NAME: ROCKY RIDGE
QUADRANT: NE
WEST_LONGITUDE: -112 33 45.00000
EAST_LONGITUDE: -112 30 0.00000
NORTH_LATITUDE: 48 30 0.00000
SOUTH_LATITUDE: 48 26 15.00000
PRODUCTION_DATE: 1998 12 07
RASTER_ORDER: LEFT_RIGHT/TOP_BOTTOM
BAND_ORGANIZATION: SINGLE FILE
BAND_CONTENT: BLACK&WHITE
BAND_CONTENT: UNDEFINED
BAND_CONTENT: UNDEFINED
BITS_PER_PIXEL: 8
SAMPLES_AND_LINES: 5460 7650
HORIZONTAL_DATUM: NAD83
HORIZONTAL_COORDINATE_SYSTEM: UTM
COORDINATE_ZONE: 12
HORIZONTAL_UNITS: METERS
HORIZONTAL_RESOLUTION: 1.00000
SECONDARY_HORIZONTAL_DATUM: NAD27
XY_ORIGIN: 384060.00000 5373360.00000
SECONDARY_XY_ORIGIN: 384122.30500 5373142.08400
NATION: US
STATE: MT
NW_QUAD_CORNER_XY: 384576.96100 5373054.44900
NE_QUAD_CORNER_XY: 389193.75200 5372962.01700
SE_QUAD_CORNERY_XY: 389057.57500 5366015.11700
SW_QUAD_CORNER_XY: 384435.10700 5366107.57400
SECONDARY_NW_QUAD_XY: 384573.29100 5372835.51400
SECONDARY_NE_QUAD_XY: 389190.22900 5372743.07900
SECONDARY_SE_QUAD_XY: 389054.05200 5365796.18800
SECONDARY_SW_QUAD_XY: 384431.43700 5365888.64700
RMSE_XY: 1.45000
IMAGE_SOURCE: BLACK AND WHITE FILM
SOURCE_IMAGE_ID: NAPP 8384 185
SOURCE_IMAGE_DATE: 1995 08 05
SOURCE_DEM_DATE: 1992 00 00
AGENCY: WESTERN MAPPING CENTER (WMC)
PRODUCER: ANALYTICAL SURVEYS INC.
PRODUCTION_SYSTEM: ORBIT OR_RECTIFY V.5.2
COMPRESSION: UNDEFINED
STANDARD_VERSION: 1996 12
METADATA_DATE: 1998 12 14
DATA_FILE_SIZE: 41774460
BYTE_COUNT: 5460
