FILENAME: O4811236.SES.943718.tif
QUADRANGLE_NAME: ROCKY RIDGE
QUADRANT: SE
WEST_LONGITUDE: -112 33 45.00000
EAST_LONGITUDE: -112 30 0.00000
NORTH_LATITUDE: 48 26 15.00000
SOUTH_LATITUDE: 48 22 30.00000
PRODUCTION_DATE: 1998 12 07
RASTER_ORDER: LEFT_RIGHT/TOP_BOTTOM
BAND_ORGANIZATION: SINGLE FILE
BAND_CONTENT: BLACK&WHITE
BAND_CONTENT: UNDEFINED
BAND_CONTENT: UNDEFINED
BITS_PER_PIXEL: 8
SAMPLES_AND_LINES: 5460 7680
HORIZONTAL_DATUM: NAD83
HORIZONTAL_COORDINATE_SYSTEM: UTM
COORDINATE_ZONE: 12
HORIZONTAL_UNITS: METERS
HORIZONTAL_RESOLUTION: 1.00000
SECONDARY_HORIZONTAL_DATUM: NAD27
XY_ORIGIN: 383910.00000 5366430.00000
SECONDARY_XY_ORIGIN: 383972.21700 5366212.27100
NATION: US
STATE: MT
NW_QUAD_CORNER_XY: 384435.10700 5366107.57400
NE_QUAD_CORNER_XY: 389057.57500 5366015.11700
SE_QUAD_CORNERY_XY: 388921.53000 5359068.28800
SW_QUAD_CORNER_XY: 384293.39100 5359160.76900
SECONDARY_NW_QUAD_XY: 384431.43700 5365888.64700
SECONDARY_NE_QUAD_XY: 389054.05200 5365796.18800
SECONDARY_SE_QUAD_XY: 388918.00700 5358849.36800
SECONDARY_SW_QUAD_XY: 384289.72200 5358941.85100
RMSE_XY: 1.78000
IMAGE_SOURCE: BLACK AND WHITE FILM
SOURCE_IMAGE_ID: NAPP 8384 183
SOURCE_IMAGE_DATE: 1995 08 05
SOURCE_DEM_DATE: 1992 00 00
AGENCY: WESTERN MAPPING CENTER (WMC)
PRODUCER: ANALYTICAL SURVEYS INC.
PRODUCTION_SYSTEM: ORBIT OR_RECTIFY V.5.2
COMPRESSION: UNDEFINED
STANDARD_VERSION: 1996 12
METADATA_DATE: 1998 12 14
DATA_FILE_SIZE: 41938260
BYTE_COUNT: 5460
