FILENAME: O4811236.SWS.943719.tif
QUADRANGLE_NAME: ROCKY RIDGE
QUADRANT: SW
WEST_LONGITUDE: -112 37 30.00000
EAST_LONGITUDE: -112 33 45.00000
NORTH_LATITUDE: 48 26 15.00000
SOUTH_LATITUDE: 48 22 30.00000
PRODUCTION_DATE: 1998 12 07
RASTER_ORDER: LEFT_RIGHT/TOP_BOTTOM
BAND_ORGANIZATION: SINGLE FILE
BAND_CONTENT: BLACK&WHITE
BAND_CONTENT: UNDEFINED
BAND_CONTENT: UNDEFINED
BITS_PER_PIXEL: 8
SAMPLES_AND_LINES: 5460 7680
HORIZONTAL_DATUM: NAD83
HORIZONTAL_COORDINATE_SYSTEM: UTM
COORDINATE_ZONE: 12
HORIZONTAL_UNITS: METERS
HORIZONTAL_RESOLUTION: 1.00000
SECONDARY_HORIZONTAL_DATUM: NAD27
XY_ORIGIN: 379290.00000 5366520.00000
SECONDARY_XY_ORIGIN: 379352.29200 5366302.32800
NATION: US
STATE: MT
NW_QUAD_CORNER_XY: 379812.65500 5366203.80600
NE_QUAD_CORNER_XY: 384435.10700 5366107.57400
SE_QUAD_CORNERY_XY: 384293.39100 5359160.76900
SW_QUAD_CORNER_XY: 379665.26900 5359257.02500
SECONDARY_NW_QUAD_XY: 379808.83900 5365984.88200
SECONDARY_NE_QUAD_XY: 384431.43700 5365888.64700
SECONDARY_SE_QUAD_XY: 384289.72200 5358941.85100
SECONDARY_SW_QUAD_XY: 379661.45200 5359038.11100
RMSE_XY: 1.02000
IMAGE_SOURCE: BLACK AND WHITE FILM
SOURCE_IMAGE_ID: NAPP 8384 241
SOURCE_IMAGE_DATE: 1995 08 05
SOURCE_DEM_DATE: 1992 00 00
AGENCY: WESTERN MAPPING CENTER (WMC)
PRODUCER: ANALYTICAL SURVEYS INC.
PRODUCTION_SYSTEM: ORBIT OR_RECTIFY V.5.2
COMPRESSION: UNDEFINED
STANDARD_VERSION: 1996 12
METADATA_DATE: 1998 12 14
DATA_FILE_SIZE: 41938260
BYTE_COUNT: 5460
