FILENAME: O4811235.SES.943705.tif
QUADRANGLE_NAME: PIEGAN
QUADRANT: SE
WEST_LONGITUDE: -112 41 15.00000
EAST_LONGITUDE: -112 37 30.00000
NORTH_LATITUDE: 48 26 15.00000
SOUTH_LATITUDE: 48 22 30.00000
PRODUCTION_DATE: 1998 12 08
RASTER_ORDER: LEFT_RIGHT/TOP_BOTTOM
BAND_ORGANIZATION: SINGLE FILE
BAND_CONTENT: BLACK&WHITE
BAND_CONTENT: UNDEFINED
BAND_CONTENT: UNDEFINED
BITS_PER_PIXEL: 8
SAMPLES_AND_LINES: 5460 7680
HORIZONTAL_DATUM: NAD83
HORIZONTAL_COORDINATE_SYSTEM: UTM
COORDINATE_ZONE: 12
HORIZONTAL_UNITS: METERS
HORIZONTAL_RESOLUTION: 1.00000
SECONDARY_HORIZONTAL_DATUM: NAD27
XY_ORIGIN: 374670.00000 5366610.00000
SECONDARY_XY_ORIGIN: 374732.36700 5366392.38500
NATION: US
STATE: MT
NW_QUAD_CORNER_XY: 375190.22100 5366303.81300
NE_QUAD_CORNER_XY: 379812.65500 5366203.80600
SE_QUAD_CORNERY_XY: 379665.26900 5359257.02500
SW_QUAD_CORNER_XY: 375037.16300 5359357.05800
SECONDARY_NW_QUAD_XY: 375186.25700 5366084.89300
SECONDARY_NE_QUAD_XY: 379808.83900 5365984.88200
SECONDARY_SE_QUAD_XY: 379661.45200 5359038.11100
SECONDARY_SW_QUAD_XY: 375033.20000 5359138.14800
RMSE_XY: 1.69000
IMAGE_SOURCE: BLACK AND WHITE FILM
SOURCE_IMAGE_ID: NAPP 8385 48
SOURCE_IMAGE_DATE: 1995 08 05
SOURCE_DEM_DATE: 1968 00 00
AGENCY: WESTERN MAPPING CENTER (WMC)
PRODUCER: ANALYTICAL SURVEYS INC.
PRODUCTION_SYSTEM: ORBIT OR_RECTIFY V.5.2
COMPRESSION: UNDEFINED
STANDARD_VERSION: 1996 12
METADATA_DATE: 1998 12 14
DATA_FILE_SIZE: 41938260
BYTE_COUNT: 5460
