FILENAME: O4811235.SWS.943707.tif
QUADRANGLE_NAME: PIEGAN
QUADRANT: SW
WEST_LONGITUDE: -112 45 0.00000
EAST_LONGITUDE: -112 41 15.00000
NORTH_LATITUDE: 48 26 15.00000
SOUTH_LATITUDE: 48 22 30.00000
PRODUCTION_DATE: 1998 12 07
RASTER_ORDER: LEFT_RIGHT/TOP_BOTTOM
BAND_ORGANIZATION: SINGLE FILE
BAND_CONTENT: BLACK&WHITE
BAND_CONTENT: UNDEFINED
BAND_CONTENT: UNDEFINED
BITS_PER_PIXEL: 8
SAMPLES_AND_LINES: 5490 7680
HORIZONTAL_DATUM: NAD83
HORIZONTAL_COORDINATE_SYSTEM: UTM
COORDINATE_ZONE: 12
HORIZONTAL_UNITS: METERS
HORIZONTAL_RESOLUTION: 1.00000
SECONDARY_HORIZONTAL_DATUM: NAD27
XY_ORIGIN: 370020.00000 5366730.00000
SECONDARY_XY_ORIGIN: 370082.44300 5366512.44200
NATION: US
STATE: MT
NW_QUAD_CORNER_XY: 370567.80400 5366407.59600
NE_QUAD_CORNER_XY: 375190.22100 5366303.81300
SE_QUAD_CORNERY_XY: 375037.16300 5359357.05800
SW_QUAD_CORNER_XY: 370409.07400 5359460.86800
SECONDARY_NW_QUAD_XY: 370563.69400 5366188.67900
SECONDARY_NE_QUAD_XY: 375186.25700 5366084.89300
SECONDARY_SE_QUAD_XY: 375033.20000 5359138.14800
SECONDARY_SW_QUAD_XY: 370404.96400 5359241.96100
RMSE_XY: 2.05000
IMAGE_SOURCE: BLACK AND WHITE FILM
SOURCE_IMAGE_ID: NAPP 8385 73
SOURCE_IMAGE_DATE: 1995 08 05
SOURCE_DEM_DATE: 1968 00 00
AGENCY: WESTERN MAPPING CENTER (WMC)
PRODUCER: ANALYTICAL SURVEYS INC.
PRODUCTION_SYSTEM: ORBIT OR_RECTIFY V.5.2
COMPRESSION: UNDEFINED
STANDARD_VERSION: 1996 12
METADATA_DATE: 1998 12 14
DATA_FILE_SIZE: 42168690
BYTE_COUNT: 5490
