FILENAME: O4811234.NES.933930.tif
QUADRANGLE_NAME: WHITE MAN COULEE
QUADRANT: NE
WEST_LONGITUDE: -112 48 45.00000
EAST_LONGITUDE: -112 45 0.00000
NORTH_LATITUDE: 48 30 0.00000
SOUTH_LATITUDE: 48 26 15.00000
PRODUCTION_DATE: 1998 10 12
RASTER_ORDER: LEFT_RIGHT/TOP_BOTTOM
BAND_ORGANIZATION: SINGLE FILE
BAND_CONTENT: BLACK&WHITE
BAND_CONTENT: UNDEFINED
BAND_CONTENT: UNDEFINED
BITS_PER_PIXEL: 8
SAMPLES_AND_LINES: 5490 7680
HORIZONTAL_DATUM: NAD83
HORIZONTAL_COORDINATE_SYSTEM: UTM
COORDINATE_ZONE: 12
HORIZONTAL_UNITS: METERS
HORIZONTAL_RESOLUTION: 1.00000
SECONDARY_HORIZONTAL_DATUM: NAD27
XY_ORIGIN: 365550.00000 5373780.00000
SECONDARY_XY_ORIGIN: 365612.66100 5373562.31100
NATION: US
STATE: MT
NW_QUAD_CORNER_XY: 366109.96700 5373461.92300
NE_QUAD_CORNER_XY: 370726.68900 5373354.39300
SE_QUAD_CORNERY_XY: 370567.80400 5366407.59600
SW_QUAD_CORNER_XY: 365945.40500 5366515.15500
SECONDARY_NW_QUAD_XY: 366105.71000 5373243.00100
SECONDARY_NE_QUAD_XY: 370722.57800 5373135.46700
SECONDARY_SE_QUAD_XY: 370563.69400 5366188.67900
SECONDARY_SW_QUAD_XY: 365941.14800 5366296.24200
RMSE_XY: 1.25300
IMAGE_SOURCE: BLACK AND WHITE FILM
SOURCE_IMAGE_ID: NAPP 8384 117
SOURCE_IMAGE_DATE: 1995 08 04
SOURCE_DEM_DATE: 1968 01 01
AGENCY: WESTERN MAPPING CENTER (WMC)
PRODUCER: ANALYTICAL SURVEYS INC.
PRODUCTION_SYSTEM: ORBIT OR_RECTIFY V.5.2
COMPRESSION: UNDEFINED
STANDARD_VERSION: 1996 12
METADATA_DATE: 1998 10 13
DATA_FILE_SIZE: 42168690
BYTE_COUNT: 5490
