FILENAME: O4811233.NES.46630.tif
QUADRANGLE_NAME: MAGEE RANCH
QUADRANT: NE
WEST_LONGITUDE: -112 56 15.00000
EAST_LONGITUDE: -112 52 30.00000
NORTH_LATITUDE: 48 30 0.00000
SOUTH_LATITUDE: 48 26 15.00000
PRODUCTION_DATE: 1994 12 22
RASTER_ORDER: LEFT_RIGHT/TOP_BOTTOM
BAND_ORGANIZATION: SINGLE FILE
BAND_CONTENT: BLACK&WHITE
BAND_CONTENT: UNDEFINED
BAND_CONTENT: UNDEFINED
BITS_PER_PIXEL: 8
SAMPLES_AND_LINES: 5463 7667
HORIZONTAL_DATUM: NAD83
HORIZONTAL_COORDINATE_SYSTEM: UTM
COORDINATE_ZONE: 12
HORIZONTAL_UNITS: METERS
HORIZONTAL_RESOLUTION: 1.00000
SECONDARY_HORIZONTAL_DATUM: NAD27
XY_ORIGIN: 356332.00000 5373989.00000
SECONDARY_XY_ORIGIN: 356394.88900 5373771.43500
NATION: US
STATE: MT
NW_QUAD_CORNER_XY: 356876.58400 5373688.31000
NE_QUAD_CORNER_XY: 361493.26600 5373573.22900
SE_QUAD_CORNERY_XY: 361323.02600 5366626.49000
SW_QUAD_CORNER_XY: 356700.66600 5366741.60100
SECONDARY_NW_QUAD_XY: 356872.03300 5373469.39500
SECONDARY_NE_QUAD_XY: 361488.86200 5373354.31000
SECONDARY_SE_QUAD_XY: 361318.62200 5366407.58000
SECONDARY_SW_QUAD_XY: 356696.11500 5366522.69500
RMSE_XY: 0.60000
IMAGE_SOURCE: BLACK AND WHITE FILM
SOURCE_IMAGE_ID: NAPP 2569 101
SOURCE_IMAGE_DATE: 1990 7 12
SOURCE_DEM_DATE: 1994 12 22
AGENCY: WESTERN MAPPING CENTER (WMC)
PRODUCER: Science Applications International
PRODUCTION_SYSTEM: GIS/MAGIC
COMPRESSION: UNDEFINED
STANDARD_VERSION: 1996 12
METADATA_DATE: 1997 7 8
DATA_FILE_SIZE: 41890284
BYTE_COUNT: 5463
