FILENAME: O4811233.SWS.46633.tif
QUADRANGLE_NAME: MAGEE RANCH
QUADRANT: SW
WEST_LONGITUDE: -113 0 0.00000
EAST_LONGITUDE: -112 56 15.00000
NORTH_LATITUDE: 48 26 15.00000
SOUTH_LATITUDE: 48 22 30.00000
PRODUCTION_DATE: 1994 12 22
RASTER_ORDER: LEFT_RIGHT/TOP_BOTTOM
BAND_ORGANIZATION: SINGLE FILE
BAND_CONTENT: BLACK&WHITE
BAND_CONTENT: UNDEFINED
BAND_CONTENT: UNDEFINED
BITS_PER_PIXEL: 8
SAMPLES_AND_LINES: 5474 7670
HORIZONTAL_DATUM: NAD83
HORIZONTAL_COORDINATE_SYSTEM: UTM
COORDINATE_ZONE: 12
HORIZONTAL_UNITS: METERS
HORIZONTAL_RESOLUTION: 1.00000
SECONDARY_HORIZONTAL_DATUM: NAD27
XY_ORIGIN: 351528.00000 5367161.00000
SECONDARY_XY_ORIGIN: 351590.90600 5366943.75800
NATION: US
STATE: MT
NW_QUAD_CORNER_XY: 352078.32600 5366860.48900
NE_QUAD_CORNER_XY: 356700.66600 5366741.60100
SE_QUAD_CORNERY_XY: 356524.91900 5359794.96000
SW_QUAD_CORNER_XY: 351896.90700 5359913.87800
SECONDARY_NW_QUAD_XY: 352073.62900 5366641.58700
SECONDARY_NE_QUAD_XY: 356696.11500 5366522.69500
SECONDARY_SE_QUAD_XY: 356520.36900 5359576.06300
SECONDARY_SW_QUAD_XY: 351892.21000 5359694.98500
RMSE_XY: 1.10000
IMAGE_SOURCE: BLACK AND WHITE FILM
SOURCE_IMAGE_ID: NAPP 2569 114
SOURCE_IMAGE_DATE: 1990 7 12
SOURCE_DEM_DATE: 1994 12 22
AGENCY: WESTERN MAPPING CENTER (WMC)
PRODUCER: Science Applications International
PRODUCTION_SYSTEM: GIS/MAGIC
COMPRESSION: UNDEFINED
STANDARD_VERSION: 1996 12
METADATA_DATE: 1997 7 8
DATA_FILE_SIZE: 41991054
BYTE_COUNT: 5474
