FILENAME: O4811232.NES.46050.tif
QUADRANGLE_NAME: ETHRIDGE
QUADRANT: NE
WEST_LONGITUDE: -112 3 45.00000
EAST_LONGITUDE: -112 0 0.00000
NORTH_LATITUDE: 48 37 30.00000
SOUTH_LATITUDE: 48 33 45.00000
PRODUCTION_DATE: 1995 6 28
RASTER_ORDER: LEFT_RIGHT/TOP_BOTTOM
BAND_ORGANIZATION: SINGLE FILE
BAND_CONTENT: BLACK&WHITE
BAND_CONTENT: UNDEFINED
BAND_CONTENT: UNDEFINED
BITS_PER_PIXEL: 8
SAMPLES_AND_LINES: 5312 7620
HORIZONTAL_DATUM: NAD83
HORIZONTAL_COORDINATE_SYSTEM: UTM
COORDINATE_ZONE: 12
HORIZONTAL_UNITS: METERS
HORIZONTAL_RESOLUTION: 1.00000
SECONDARY_HORIZONTAL_DATUM: NAD27
XY_ORIGIN: 421303.50000 5386619.50000
SECONDARY_XY_ORIGIN: 421365.23300 5386401.16700
NATION: US
STATE: MT
NW_QUAD_CORNER_XY: 421704.88400 5386314.96100
NE_QUAD_CORNER_XY: 426310.41900 5386252.75000
SE_QUAD_CORNERY_XY: 426219.46600 5379305.54500
SW_QUAD_CORNER_XY: 421608.24600 5379367.77200
SECONDARY_NW_QUAD_XY: 421702.38900 5386095.99100
SECONDARY_NE_QUAD_XY: 426308.07000 5386033.77900
SECONDARY_SE_QUAD_XY: 426217.11800 5379086.58100
SECONDARY_SW_QUAD_XY: 421605.75000 5379148.81000
RMSE_XY: 1.80000
IMAGE_SOURCE: BLACK AND WHITE FILM
SOURCE_IMAGE_ID: NAPP 2567 015
SOURCE_IMAGE_DATE: 1990 6 26
SOURCE_DEM_DATE: 1995 6 28
AGENCY: WESTERN MAPPING CENTER (WMC)
PRODUCER: Woolpert Consultants
PRODUCTION_SYSTEM: INTERGRAPH ISPM,ISIR
COMPRESSION: UNDEFINED
STANDARD_VERSION: 1996 12
METADATA_DATE: 1997 6 15
DATA_FILE_SIZE: 40482752
BYTE_COUNT: 5312
