FILENAME: O4811232.NWS.46051.tif
QUADRANGLE_NAME: ETHRIDGE
QUADRANT: NW
WEST_LONGITUDE: -112 7 30.00000
EAST_LONGITUDE: -112 3 45.00000
NORTH_LATITUDE: 48 37 30.00000
SOUTH_LATITUDE: 48 33 45.00000
PRODUCTION_DATE: 1995 6 28
RASTER_ORDER: LEFT_RIGHT/TOP_BOTTOM
BAND_ORGANIZATION: SINGLE FILE
BAND_CONTENT: BLACK&WHITE
BAND_CONTENT: UNDEFINED
BAND_CONTENT: UNDEFINED
BITS_PER_PIXEL: 8
SAMPLES_AND_LINES: 5318 7624
HORIZONTAL_DATUM: NAD83
HORIZONTAL_COORDINATE_SYSTEM: UTM
COORDINATE_ZONE: 12
HORIZONTAL_UNITS: METERS
HORIZONTAL_RESOLUTION: 1.00000
SECONDARY_HORIZONTAL_DATUM: NAD27
XY_ORIGIN: 416692.50000 5386685.50000
SECONDARY_XY_ORIGIN: 416754.29700 5386467.17900
NATION: US
STATE: MT
NW_QUAD_CORNER_XY: 417099.36100 5386380.94200
NE_QUAD_CORNER_XY: 421704.88400 5386314.96100
SE_QUAD_CORNERY_XY: 421608.24600 5379367.77200
SW_QUAD_CORNER_XY: 416997.03700 5379433.77200
SECONDARY_NW_QUAD_XY: 417096.71900 5386161.97400
SECONDARY_NE_QUAD_XY: 421702.38900 5386095.99100
SECONDARY_SE_QUAD_XY: 421605.75000 5379148.81000
SECONDARY_SW_QUAD_XY: 416994.39500 5379214.81100
RMSE_XY: 1.60000
IMAGE_SOURCE: BLACK AND WHITE FILM
SOURCE_IMAGE_ID: NAPP 2566 052
SOURCE_IMAGE_DATE: 1990 6 26
SOURCE_DEM_DATE: 1995 6 28
AGENCY: WESTERN MAPPING CENTER (WMC)
PRODUCER: Woolpert Consultants
PRODUCTION_SYSTEM: INTERGRAPH ISPM,ISIR
COMPRESSION: UNDEFINED
STANDARD_VERSION: 1996 12
METADATA_DATE: 1997 6 15
DATA_FILE_SIZE: 40549750
BYTE_COUNT: 5318
