FILENAME: O4811231.NES.938487.tif
QUADRANGLE_NAME: BORU SPRING
QUADRANT: NE
WEST_LONGITUDE: -112 11 15.00000
EAST_LONGITUDE: -112 7 30.00000
NORTH_LATITUDE: 48 37 30.00000
SOUTH_LATITUDE: 48 33 45.00000
PRODUCTION_DATE: 1998 12 08
RASTER_ORDER: LEFT_RIGHT/TOP_BOTTOM
BAND_ORGANIZATION: SINGLE FILE
BAND_CONTENT: BLACK&WHITE
BAND_CONTENT: UNDEFINED
BAND_CONTENT: UNDEFINED
BITS_PER_PIXEL: 8
SAMPLES_AND_LINES: 5400 7650
HORIZONTAL_DATUM: NAD83
HORIZONTAL_COORDINATE_SYSTEM: UTM
COORDINATE_ZONE: 12
HORIZONTAL_UNITS: METERS
HORIZONTAL_RESOLUTION: 1.00000
SECONDARY_HORIZONTAL_DATUM: NAD27
XY_ORIGIN: 412020.00000 5386770.00000
SECONDARY_XY_ORIGIN: 412081.86900 5386551.68700
NATION: US
STATE: MT
NW_QUAD_CORNER_XY: 412493.85000 5386450.69400
NE_QUAD_CORNER_XY: 417099.36100 5386380.94200
SE_QUAD_CORNERY_XY: 416997.03700 5379433.77200
SW_QUAD_CORNER_XY: 412385.84000 5379503.54300
SECONDARY_NW_QUAD_XY: 412491.06100 5386231.72900
SECONDARY_NE_QUAD_XY: 417096.71900 5386161.97400
SECONDARY_SE_QUAD_XY: 416994.39500 5379214.81100
SECONDARY_SW_QUAD_XY: 412383.05100 5379284.58400
RMSE_XY: 1.48000
IMAGE_SOURCE: BLACK AND WHITE FILM
SOURCE_IMAGE_ID: NAPP 8380 77
SOURCE_IMAGE_DATE: 1995 07 01
SOURCE_DEM_DATE: 1992 00 00
AGENCY: WESTERN MAPPING CENTER (WMC)
PRODUCER: ANALYTICAL SURVEYS INC.
PRODUCTION_SYSTEM: ORBIT OR_RECTIFY V.5.2
COMPRESSION: UNDEFINED
STANDARD_VERSION: 1996 12
METADATA_DATE: 1998 12 11
DATA_FILE_SIZE: 41315400
BYTE_COUNT: 5400
