FILENAME: O4811231.SWS.938490.tif
QUADRANGLE_NAME: BORU SPRING
QUADRANT: SW
WEST_LONGITUDE: -112 15 0.00000
EAST_LONGITUDE: -112 11 15.00000
NORTH_LATITUDE: 48 33 45.00000
SOUTH_LATITUDE: 48 30 0.00000
PRODUCTION_DATE: 1998 12 08
RASTER_ORDER: LEFT_RIGHT/TOP_BOTTOM
BAND_ORGANIZATION: SINGLE FILE
BAND_CONTENT: BLACK&WHITE
BAND_CONTENT: UNDEFINED
BAND_CONTENT: UNDEFINED
BITS_PER_PIXEL: 8
SAMPLES_AND_LINES: 5430 7650
HORIZONTAL_DATUM: NAD83
HORIZONTAL_COORDINATE_SYSTEM: UTM
COORDINATE_ZONE: 12
HORIZONTAL_UNITS: METERS
HORIZONTAL_RESOLUTION: 1.00000
SECONDARY_HORIZONTAL_DATUM: NAD27
XY_ORIGIN: 407280.00000 5379900.00000
SECONDARY_XY_ORIGIN: 407341.88100 5379681.86100
NATION: US
STATE: MT
NW_QUAD_CORNER_XY: 407774.65600 5379577.08600
NE_QUAD_CORNER_XY: 412385.84000 5379503.54300
SE_QUAD_CORNERY_XY: 412277.93500 5372556.46400
SW_QUAD_CORNER_XY: 407661.07100 5372630.02700
SECONDARY_NW_QUAD_XY: 407771.72100 5379358.13000
SECONDARY_NE_QUAD_XY: 412383.05100 5379284.58400
SECONDARY_SE_QUAD_XY: 412275.14600 5372337.51300
SECONDARY_SW_QUAD_XY: 407658.13500 5372411.07900
RMSE_XY: 1.65000
IMAGE_SOURCE: BLACK AND WHITE FILM
SOURCE_IMAGE_ID: NAPP 8380 75
SOURCE_IMAGE_DATE: 1995 07 01
SOURCE_IMAGE_ID: NAPP 8380 108
SOURCE_IMAGE_DATE: 1995 07 01
SOURCE_DEM_DATE: 1992 00 00
AGENCY: WESTERN MAPPING CENTER (WMC)
PRODUCER: ANALYTICAL SURVEYS INC.
PRODUCTION_SYSTEM: ORBIT OR_RECTIFY V.5.2
COMPRESSION: UNDEFINED
STANDARD_VERSION: 1996 12
METADATA_DATE: 1998 12 11
DATA_FILE_SIZE: 41544930
BYTE_COUNT: 5430
