FILENAME: O4811230.NWS.943737.tif
QUADRANGLE_NAME: CUT BANK SE
QUADRANT: NW
WEST_LONGITUDE: -112 22 30.00000
EAST_LONGITUDE: -112 18 45.00000
NORTH_LATITUDE: 48 37 30.00000
SOUTH_LATITUDE: 48 33 45.00000
PRODUCTION_DATE: 1998 12 10
RASTER_ORDER: LEFT_RIGHT/TOP_BOTTOM
BAND_ORGANIZATION: SINGLE FILE
BAND_CONTENT: BLACK&WHITE
BAND_CONTENT: UNDEFINED
BAND_CONTENT: UNDEFINED
BITS_PER_PIXEL: 8
SAMPLES_AND_LINES: 5430 7680
HORIZONTAL_DATUM: NAD83
HORIZONTAL_COORDINATE_SYSTEM: UTM
COORDINATE_ZONE: 12
HORIZONTAL_UNITS: METERS
HORIZONTAL_RESOLUTION: 1.00000
SECONDARY_HORIZONTAL_DATUM: NAD27
XY_ORIGIN: 398160.00000 5387010.00000
SECONDARY_XY_ORIGIN: 398222.13600 5386791.72200
NATION: US
STATE: MT
NW_QUAD_CORNER_XY: 398677.39900 5386682.57900
NE_QUAD_CORNER_XY: 403282.86900 5386601.51300
SE_QUAD_CORNERY_XY: 403163.48600 5379654.40300
SW_QUAD_CORNER_XY: 398552.33000 5379735.49100
SECONDARY_NW_QUAD_XY: 398674.16900 5386463.62200
SECONDARY_NE_QUAD_XY: 403279.78600 5386382.55200
SECONDARY_SE_QUAD_XY: 403160.40300 5379435.44900
SECONDARY_SW_QUAD_XY: 398549.10000 5379516.54000
RMSE_XY: 1.53000
IMAGE_SOURCE: BLACK AND WHITE FILM
SOURCE_IMAGE_ID: NAPP 8381 73
SOURCE_IMAGE_DATE: 1995 07 28
SOURCE_DEM_DATE: 1964 00 00
AGENCY: WESTERN MAPPING CENTER (WMC)
PRODUCER: ANALYTICAL SURVEYS INC.
PRODUCTION_SYSTEM: ORBIT OR_RECTIFY V.5.2
COMPRESSION: UNDEFINED
STANDARD_VERSION: 1996 12
METADATA_DATE: 1998 12 16
DATA_FILE_SIZE: 41707830
BYTE_COUNT: 5430
