FILENAME: O4811230.SES.943738.tif
QUADRANGLE_NAME: CUT BANK SE
QUADRANT: SE
WEST_LONGITUDE: -112 18 45.00000
EAST_LONGITUDE: -112 15 0.00000
NORTH_LATITUDE: 48 33 45.00000
SOUTH_LATITUDE: 48 30 0.00000
PRODUCTION_DATE: 1998 12 10
RASTER_ORDER: LEFT_RIGHT/TOP_BOTTOM
BAND_ORGANIZATION: SINGLE FILE
BAND_CONTENT: BLACK&WHITE
BAND_CONTENT: UNDEFINED
BAND_CONTENT: UNDEFINED
BITS_PER_PIXEL: 8
SAMPLES_AND_LINES: 5430 7650
HORIZONTAL_DATUM: NAD83
HORIZONTAL_COORDINATE_SYSTEM: UTM
COORDINATE_ZONE: 12
HORIZONTAL_UNITS: METERS
HORIZONTAL_RESOLUTION: 1.00000
SECONDARY_HORIZONTAL_DATUM: NAD27
XY_ORIGIN: 402660.00000 5379960.00000
SECONDARY_XY_ORIGIN: 402721.97800 5379741.86800
NATION: US
STATE: MT
NW_QUAD_CORNER_XY: 403163.48600 5379654.40300
NE_QUAD_CORNER_XY: 407774.65600 5379577.08600
SE_QUAD_CORNERY_XY: 407661.07100 5372630.02700
SW_QUAD_CORNER_XY: 403044.22000 5372707.36400
SECONDARY_NW_QUAD_XY: 403160.40300 5379435.44900
SECONDARY_NE_QUAD_XY: 407771.72100 5379358.13000
SECONDARY_SE_QUAD_XY: 407658.13500 5372411.07900
SECONDARY_SW_QUAD_XY: 403041.13700 5372488.41800
RMSE_XY: 2.19000
IMAGE_SOURCE: BLACK AND WHITE FILM
SOURCE_IMAGE_ID: NAPP 8381 43
SOURCE_IMAGE_DATE: 1995 07 28
SOURCE_DEM_DATE: 1964 00 00
AGENCY: WESTERN MAPPING CENTER (WMC)
PRODUCER: ANALYTICAL SURVEYS INC.
PRODUCTION_SYSTEM: ORBIT OR_RECTIFY V.5.2
COMPRESSION: UNDEFINED
STANDARD_VERSION: 1996 12
METADATA_DATE: 1998 12 16
DATA_FILE_SIZE: 41544930
BYTE_COUNT: 5430
