FILENAME: O4811229.SWS.943679.tif
QUADRANGLE_NAME: SQUAW BUTTES
QUADRANT: SW
WEST_LONGITUDE: -112 30 0.00000
EAST_LONGITUDE: -112 26 15.00000
NORTH_LATITUDE: 48 33 45.00000
SOUTH_LATITUDE: 48 30 0.00000
PRODUCTION_DATE: 1998 12 08
RASTER_ORDER: LEFT_RIGHT/TOP_BOTTOM
BAND_ORGANIZATION: SINGLE FILE
BAND_CONTENT: BLACK&WHITE
BAND_CONTENT: UNDEFINED
BAND_CONTENT: UNDEFINED
BITS_PER_PIXEL: 8
SAMPLES_AND_LINES: 5460 7680
HORIZONTAL_DATUM: NAD83
HORIZONTAL_COORDINATE_SYSTEM: UTM
COORDINATE_ZONE: 12
HORIZONTAL_UNITS: METERS
HORIZONTAL_RESOLUTION: 1.00000
SECONDARY_HORIZONTAL_DATUM: NAD27
XY_ORIGIN: 388800.00000 5380230.00000
SECONDARY_XY_ORIGIN: 388862.28600 5380011.88300
NATION: US
STATE: MT
NW_QUAD_CORNER_XY: 389330.06300 5379908.98700
NE_QUAD_CORNER_XY: 393941.18800 5379820.35300
SE_QUAD_CORNERY_XY: 393810.56000 5372873.35900
SW_QUAD_CORNER_XY: 389193.75200 5372962.01700
SECONDARY_NW_QUAD_XY: 389326.53900 5379690.04200
SECONDARY_NE_QUAD_XY: 393937.81200 5379601.40400
SECONDARY_SE_QUAD_XY: 393807.18300 5372654.41800
SECONDARY_SW_QUAD_XY: 389190.22900 5372743.07900
RMSE_XY: 1.95000
IMAGE_SOURCE: BLACK AND WHITE FILM
SOURCE_IMAGE_ID: NAPP 8384 84
SOURCE_IMAGE_DATE: 1995 08 04
SOURCE_IMAGE_ID: NAPP 8384 86
SOURCE_IMAGE_DATE: 1995 08 04
SOURCE_DEM_DATE: 1992 00 00
AGENCY: WESTERN MAPPING CENTER (WMC)
PRODUCER: ANALYTICAL SURVEYS INC.
PRODUCTION_SYSTEM: ORBIT OR_RECTIFY V.5.2
COMPRESSION: UNDEFINED
STANDARD_VERSION: 1996 12
METADATA_DATE: 1998 12 10
DATA_FILE_SIZE: 41938260
BYTE_COUNT: 5460
