FILENAME: O4811228.NES.943712.tif
QUADRANGLE_NAME: MISSION LAKE EAST
QUADRANT: NE
WEST_LONGITUDE: -112 33 45.00000
EAST_LONGITUDE: -112 30 0.00000
NORTH_LATITUDE: 48 37 30.00000
SOUTH_LATITUDE: 48 33 45.00000
PRODUCTION_DATE: 1998 12 07
RASTER_ORDER: LEFT_RIGHT/TOP_BOTTOM
BAND_ORGANIZATION: SINGLE FILE
BAND_CONTENT: BLACK&WHITE
BAND_CONTENT: UNDEFINED
BAND_CONTENT: UNDEFINED
BITS_PER_PIXEL: 8
SAMPLES_AND_LINES: 5460 7650
HORIZONTAL_DATUM: NAD83
HORIZONTAL_COORDINATE_SYSTEM: UTM
COORDINATE_ZONE: 12
HORIZONTAL_UNITS: METERS
HORIZONTAL_RESOLUTION: 1.00000
SECONDARY_HORIZONTAL_DATUM: NAD27
XY_ORIGIN: 384330.00000 5387250.00000
SECONDARY_XY_ORIGIN: 384392.43400 5387031.78800
NATION: US
STATE: MT
NW_QUAD_CORNER_XY: 384861.08400 5386948.41100
NE_QUAD_CORNER_XY: 389466.50600 5386856.02800
SE_QUAD_CORNERY_XY: 389330.06300 5379908.98700
SW_QUAD_CORNER_XY: 384718.95300 5380001.39500
SECONDARY_NW_QUAD_XY: 384857.41300 5386729.46100
SECONDARY_NE_QUAD_XY: 389462.98300 5386637.07600
SECONDARY_SE_QUAD_XY: 389326.53900 5379690.04200
SECONDARY_SW_QUAD_XY: 384715.28300 5379782.45200
RMSE_XY: 1.59000
IMAGE_SOURCE: BLACK AND WHITE FILM
SOURCE_IMAGE_ID: NAPP 8384 189
SOURCE_IMAGE_DATE: 1995 08 05
SOURCE_DEM_DATE: 1968 00 00
AGENCY: WESTERN MAPPING CENTER (WMC)
PRODUCER: ANALYTICAL SURVEYS INC.
PRODUCTION_SYSTEM: ORBIT OR_RECTIFY V.5.2
COMPRESSION: UNDEFINED
STANDARD_VERSION: 1996 12
METADATA_DATE: 1998 12 14
DATA_FILE_SIZE: 41774460
BYTE_COUNT: 5460
