FILENAME: O4811228.NWS.943713.tif
QUADRANGLE_NAME: MISSION LAKE EAST
QUADRANT: NW
WEST_LONGITUDE: -112 37 30.00000
EAST_LONGITUDE: -112 33 45.00000
NORTH_LATITUDE: 48 37 30.00000
SOUTH_LATITUDE: 48 33 45.00000
PRODUCTION_DATE: 1998 12 07
RASTER_ORDER: LEFT_RIGHT/TOP_BOTTOM
BAND_ORGANIZATION: SINGLE FILE
BAND_CONTENT: BLACK&WHITE
BAND_CONTENT: UNDEFINED
BAND_CONTENT: UNDEFINED
BITS_PER_PIXEL: 8
SAMPLES_AND_LINES: 5430 7680
HORIZONTAL_DATUM: NAD83
HORIZONTAL_COORDINATE_SYSTEM: UTM
COORDINATE_ZONE: 12
HORIZONTAL_UNITS: METERS
HORIZONTAL_RESOLUTION: 1.00000
SECONDARY_HORIZONTAL_DATUM: NAD27
XY_ORIGIN: 379740.00000 5387370.00000
SECONDARY_XY_ORIGIN: 379802.53000 5387151.82400
NATION: US
STATE: MT
NW_QUAD_CORNER_XY: 380255.67900 5387044.56500
NE_QUAD_CORNER_XY: 384861.08400 5386948.41100
SE_QUAD_CORNERY_XY: 384718.95300 5380001.39500
SW_QUAD_CORNER_XY: 380107.86000 5380097.57600
SECONDARY_NW_QUAD_XY: 380251.86200 5386825.61900
SECONDARY_NE_QUAD_XY: 384857.41300 5386729.46100
SECONDARY_SE_QUAD_XY: 384715.28300 5379782.45200
SECONDARY_SW_QUAD_XY: 380104.04300 5379878.63600
RMSE_XY: 1.04000
IMAGE_SOURCE: BLACK AND WHITE FILM
SOURCE_IMAGE_ID: NAPP 8384 235
SOURCE_IMAGE_DATE: 1995 08 05
SOURCE_DEM_DATE: 1968 00 00
AGENCY: WESTERN MAPPING CENTER (WMC)
PRODUCER: ANALYTICAL SURVEYS INC.
PRODUCTION_SYSTEM: ORBIT OR_RECTIFY V.5.2
COMPRESSION: UNDEFINED
STANDARD_VERSION: 1996 12
METADATA_DATE: 1998 12 14
DATA_FILE_SIZE: 41707830
BYTE_COUNT: 5430
