FILENAME: O4811227.SES.943698.tif
QUADRANGLE_NAME: MISSION LAKE WEST
QUADRANT: SE
WEST_LONGITUDE: -112 41 15.00000
EAST_LONGITUDE: -112 37 30.00000
NORTH_LATITUDE: 48 33 45.00000
SOUTH_LATITUDE: 48 30 0.00000
PRODUCTION_DATE: 1998 12 07
RASTER_ORDER: LEFT_RIGHT/TOP_BOTTOM
BAND_ORGANIZATION: SINGLE FILE
BAND_CONTENT: BLACK&WHITE
BAND_CONTENT: UNDEFINED
BAND_CONTENT: UNDEFINED
BITS_PER_PIXEL: 8
SAMPLES_AND_LINES: 5460 7680
HORIZONTAL_DATUM: NAD83
HORIZONTAL_COORDINATE_SYSTEM: UTM
COORDINATE_ZONE: 12
HORIZONTAL_UNITS: METERS
HORIZONTAL_RESOLUTION: 1.00000
SECONDARY_HORIZONTAL_DATUM: NAD27
XY_ORIGIN: 374970.00000 5380500.00000
SECONDARY_XY_ORIGIN: 375032.54300 5380282.02700
NATION: US
STATE: MT
NW_QUAD_CORNER_XY: 375496.78500 5380197.53000
NE_QUAD_CORNER_XY: 380107.86000 5380097.57600
SE_QUAD_CORNERY_XY: 379960.18600 5373150.65600
SW_QUAD_CORNER_XY: 375343.42800 5373250.63700
SECONDARY_NW_QUAD_XY: 375492.82100 5379978.59400
SECONDARY_NE_QUAD_XY: 380104.04300 5379878.63600
SECONDARY_SE_QUAD_XY: 379956.36900 5372931.72400
SECONDARY_SW_QUAD_XY: 375339.46500 5373031.70800
RMSE_XY: 0.83000
IMAGE_SOURCE: BLACK AND WHITE FILM
SOURCE_IMAGE_ID: NAPP 8385 44
SOURCE_IMAGE_DATE: 1995 08 05
SOURCE_DEM_DATE: 1968 00 00
AGENCY: WESTERN MAPPING CENTER (WMC)
PRODUCER: ANALYTICAL SURVEYS INC.
PRODUCTION_SYSTEM: ORBIT OR_RECTIFY V.5.2
COMPRESSION: UNDEFINED
STANDARD_VERSION: 1996 12
METADATA_DATE: 1998 12 14
DATA_FILE_SIZE: 41938260
BYTE_COUNT: 5460
