FILENAME: O4811226.SES.933928.tif
QUADRANGLE_NAME: KIPP LAKE
QUADRANT: SE
WEST_LONGITUDE: -112 48 45.00000
EAST_LONGITUDE: -112 45 0.00000
NORTH_LATITUDE: 48 33 45.00000
SOUTH_LATITUDE: 48 30 0.00000
PRODUCTION_DATE: 1998 10 12
RASTER_ORDER: LEFT_RIGHT/TOP_BOTTOM
BAND_ORGANIZATION: SINGLE FILE
BAND_CONTENT: BLACK&WHITE
BAND_CONTENT: UNDEFINED
BAND_CONTENT: UNDEFINED
BITS_PER_PIXEL: 8
SAMPLES_AND_LINES: 5460 7680
HORIZONTAL_DATUM: NAD83
HORIZONTAL_COORDINATE_SYSTEM: UTM
COORDINATE_ZONE: 12
HORIZONTAL_UNITS: METERS
HORIZONTAL_RESOLUTION: 1.00000
SECONDARY_HORIZONTAL_DATUM: NAD27
XY_ORIGIN: 365730.00000 5380710.00000
SECONDARY_XY_ORIGIN: 365792.74100 5380492.12500
NATION: US
STATE: MT
NW_QUAD_CORNER_XY: 366274.69000 5380408.76000
NE_QUAD_CORNER_XY: 370885.72800 5380301.25800
SE_QUAD_CORNERY_XY: 370726.68900 5373354.39300
SW_QUAD_CORNER_XY: 366109.96700 5373461.92300
SECONDARY_NW_QUAD_XY: 366270.43300 5380189.83000
SECONDARY_NE_QUAD_XY: 370881.61800 5380082.32500
SECONDARY_SE_QUAD_XY: 370722.57800 5373135.46700
SECONDARY_SW_QUAD_XY: 366105.71000 5373243.00100
RMSE_XY: 1.89900
IMAGE_SOURCE: BLACK AND WHITE FILM
SOURCE_IMAGE_ID: NAPP 8384 119
SOURCE_IMAGE_DATE: 1995 08 04
SOURCE_DEM_DATE: 1968 01 01
AGENCY: WESTERN MAPPING CENTER (WMC)
PRODUCER: ANALYTICAL SURVEYS INC.
PRODUCTION_SYSTEM: ORBIT OR_RECTIFY V.5.2
COMPRESSION: UNDEFINED
STANDARD_VERSION: 1996 12
METADATA_DATE: 1998 10 13
DATA_FILE_SIZE: 41938260
BYTE_COUNT: 5460
