FILENAME: O4811225.NES.46626.tif
QUADRANGLE_NAME: BLACKFOOT
QUADRANT: NE
WEST_LONGITUDE: -112 56 15.00000
EAST_LONGITUDE: -112 52 30.00000
NORTH_LATITUDE: 48 37 30.00000
SOUTH_LATITUDE: 48 33 45.00000
PRODUCTION_DATE: 1994 12 22
RASTER_ORDER: LEFT_RIGHT/TOP_BOTTOM
BAND_ORGANIZATION: SINGLE FILE
BAND_CONTENT: BLACK&WHITE
BAND_CONTENT: UNDEFINED
BAND_CONTENT: UNDEFINED
BITS_PER_PIXEL: 8
SAMPLES_AND_LINES: 5452 7666
HORIZONTAL_DATUM: NAD83
HORIZONTAL_COORDINATE_SYSTEM: UTM
COORDINATE_ZONE: 12
HORIZONTAL_UNITS: METERS
HORIZONTAL_RESOLUTION: 1.00000
SECONDARY_HORIZONTAL_DATUM: NAD27
XY_ORIGIN: 356684.00000 5387882.00000
SECONDARY_XY_ORIGIN: 356747.00000 5387664.02700
NATION: US
STATE: MT
NW_QUAD_CORNER_XY: 357228.93500 5387581.92900
NE_QUAD_CORNER_XY: 361834.24400 5387466.91000
SE_QUAD_CORNERY_XY: 361663.67200 5380520.03600
SW_QUAD_CORNER_XY: 357052.67400 5380635.08600
SECONDARY_NW_QUAD_XY: 357224.38400 5387363.00000
SECONDARY_NE_QUAD_XY: 361829.84000 5387247.97700
SECONDARY_SE_QUAD_XY: 361659.26800 5380301.11000
SECONDARY_SW_QUAD_XY: 357048.12300 5380416.16400
RMSE_XY: 0.70000
IMAGE_SOURCE: BLACK AND WHITE FILM
SOURCE_IMAGE_ID: NAPP 2569 097
SOURCE_IMAGE_DATE: 1990 7 12
SOURCE_DEM_DATE: 1994 12 22
AGENCY: WESTERN MAPPING CENTER (WMC)
PRODUCER: Science Applications International
PRODUCTION_SYSTEM: GIS/MAGIC
COMPRESSION: UNDEFINED
STANDARD_VERSION: 1996 12
METADATA_DATE: 1997 7 4
DATA_FILE_SIZE: 41800484
BYTE_COUNT: 5452
