FILENAME: O4811225.SES.46628.tif
QUADRANGLE_NAME: BLACKFOOT
QUADRANT: SE
WEST_LONGITUDE: -112 56 15.00000
EAST_LONGITUDE: -112 52 30.00000
NORTH_LATITUDE: 48 33 45.00000
SOUTH_LATITUDE: 48 30 0.00000
PRODUCTION_DATE: 1994 12 22
RASTER_ORDER: LEFT_RIGHT/TOP_BOTTOM
BAND_ORGANIZATION: SINGLE FILE
BAND_CONTENT: BLACK&WHITE
BAND_CONTENT: UNDEFINED
BAND_CONTENT: UNDEFINED
BITS_PER_PIXEL: 8
SAMPLES_AND_LINES: 5457 7667
HORIZONTAL_DATUM: NAD83
HORIZONTAL_COORDINATE_SYSTEM: UTM
COORDINATE_ZONE: 12
HORIZONTAL_UNITS: METERS
HORIZONTAL_RESOLUTION: 1.00000
SECONDARY_HORIZONTAL_DATUM: NAD27
XY_ORIGIN: 356508.00000 5380936.00000
SECONDARY_XY_ORIGIN: 356570.94600 5380718.23000
NATION: US
STATE: MT
NW_QUAD_CORNER_XY: 357052.67400 5380635.08600
NE_QUAD_CORNER_XY: 361663.67200 5380520.03600
SE_QUAD_CORNERY_XY: 361493.26600 5373573.22900
SW_QUAD_CORNER_XY: 356876.58400 5373688.31000
SECONDARY_NW_QUAD_XY: 357048.12300 5380416.16400
SECONDARY_NE_QUAD_XY: 361659.26800 5380301.11000
SECONDARY_SE_QUAD_XY: 361488.86200 5373354.31000
SECONDARY_SW_QUAD_XY: 356872.03300 5373469.39500
RMSE_XY: 0.60000
IMAGE_SOURCE: BLACK AND WHITE FILM
SOURCE_IMAGE_ID: NAPP 2569 099
SOURCE_IMAGE_DATE: 1990 7 12
SOURCE_DEM_DATE: 1994 12 22
AGENCY: WESTERN MAPPING CENTER (WMC)
PRODUCER: Science Applications International
PRODUCTION_SYSTEM: GIS/MAGIC
COMPRESSION: UNDEFINED
STANDARD_VERSION: 1996 12
METADATA_DATE: 1997 7 4
DATA_FILE_SIZE: 41844276
BYTE_COUNT: 5457
