FILENAME: O4811224.NWS.46047.tif
QUADRANGLE_NAME: ALOE
QUADRANT: NW
WEST_LONGITUDE: -112 7 30.00000
EAST_LONGITUDE: -112 3 45.00000
NORTH_LATITUDE: 48 45 0.00000
SOUTH_LATITUDE: 48 41 15.00000
PRODUCTION_DATE: 1995 6 27
RASTER_ORDER: LEFT_RIGHT/TOP_BOTTOM
BAND_ORGANIZATION: SINGLE FILE
BAND_CONTENT: BLACK&WHITE
BAND_CONTENT: UNDEFINED
BAND_CONTENT: UNDEFINED
BITS_PER_PIXEL: 8
SAMPLES_AND_LINES: 5306 7624
HORIZONTAL_DATUM: NAD83
HORIZONTAL_COORDINATE_SYSTEM: UTM
COORDINATE_ZONE: 12
HORIZONTAL_UNITS: METERS
HORIZONTAL_RESOLUTION: 1.00000
SECONDARY_HORIZONTAL_DATUM: NAD27
XY_ORIGIN: 416897.50000 5400580.50000
SECONDARY_XY_ORIGIN: 416959.48200 5400361.82300
NATION: US
STATE: MT
NW_QUAD_CORNER_XY: 417304.30700 5400275.50100
NE_QUAD_CORNER_XY: 421898.44200 5400209.55600
SE_QUAD_CORNERY_XY: 421801.61600 5393262.22200
SW_QUAD_CORNER_XY: 417201.78500 5393328.18500
SECONDARY_NW_QUAD_XY: 417301.66500 5400056.52200
SECONDARY_NE_QUAD_XY: 421895.94700 5399990.57600
SECONDARY_SE_QUAD_XY: 421799.12100 5393043.24600
SECONDARY_SW_QUAD_XY: 417199.14200 5393109.21100
RMSE_XY: 1.50000
IMAGE_SOURCE: BLACK AND WHITE FILM
SOURCE_IMAGE_ID: NAPP 2566 056
SOURCE_IMAGE_DATE: 1990 6 26
SOURCE_DEM_DATE: 1995 6 27
AGENCY: WESTERN MAPPING CENTER (WMC)
PRODUCER: Woolpert Consultants
PRODUCTION_SYSTEM: INTERGRAPH ISPM,ISIR
COMPRESSION: UNDEFINED
STANDARD_VERSION: 1996 12
METADATA_DATE: 1997 6 15
DATA_FILE_SIZE: 40458250
BYTE_COUNT: 5306
