FILENAME: O4811223.SES.938473.tif
QUADRANGLE_NAME: ETHRIDGE NW
QUADRANT: SE
WEST_LONGITUDE: -112 11 15.00000
EAST_LONGITUDE: -112 7 30.00000
NORTH_LATITUDE: 48 41 15.00000
SOUTH_LATITUDE: 48 37 30.00000
PRODUCTION_DATE: 1998 12 08
RASTER_ORDER: LEFT_RIGHT/TOP_BOTTOM
BAND_ORGANIZATION: SINGLE FILE
BAND_CONTENT: BLACK&WHITE
BAND_CONTENT: UNDEFINED
BAND_CONTENT: UNDEFINED
BITS_PER_PIXEL: 8
SAMPLES_AND_LINES: 5400 7620
HORIZONTAL_DATUM: NAD83
HORIZONTAL_COORDINATE_SYSTEM: UTM
COORDINATE_ZONE: 12
HORIZONTAL_UNITS: METERS
HORIZONTAL_RESOLUTION: 1.00000
SECONDARY_HORIZONTAL_DATUM: NAD27
XY_ORIGIN: 412110.00000 5393700.00000
SECONDARY_XY_ORIGIN: 412171.94200 5393481.51900
NATION: US
STATE: MT
NW_QUAD_CORNER_XY: 412601.96500 5393397.91800
NE_QUAD_CORNER_XY: 417201.78500 5393328.18500
SE_QUAD_CORNERY_XY: 417099.36100 5386380.94200
SW_QUAD_CORNER_XY: 412493.85000 5386450.69400
SECONDARY_NW_QUAD_XY: 412599.17600 5393178.94700
SECONDARY_NE_QUAD_XY: 417199.14200 5393109.21100
SECONDARY_SE_QUAD_XY: 417096.71900 5386161.97400
SECONDARY_SW_QUAD_XY: 412491.06100 5386231.72900
RMSE_XY: 1.36000
IMAGE_SOURCE: BLACK AND WHITE FILM
SOURCE_IMAGE_ID: NAPP 8380 79
SOURCE_IMAGE_DATE: 1995 07 01
SOURCE_DEM_DATE: 1992 00 00
AGENCY: WESTERN MAPPING CENTER (WMC)
PRODUCER: ANALYTICAL SURVEYS INC.
PRODUCTION_SYSTEM: ORBIT OR_RECTIFY V.5.2
COMPRESSION: UNDEFINED
STANDARD_VERSION: 1996 12
METADATA_DATE: 1998 12 10
DATA_FILE_SIZE: 41153400
BYTE_COUNT: 5400
