FILENAME: O4811222.NWS.938460.tif
QUADRANGLE_NAME: CUT BANK
QUADRANT: NW
WEST_LONGITUDE: -112 22 30.00000
EAST_LONGITUDE: -112 18 45.00000
NORTH_LATITUDE: 48 45 0.00000
SOUTH_LATITUDE: 48 41 15.00000
PRODUCTION_DATE: 1998 12 07
RASTER_ORDER: LEFT_RIGHT/TOP_BOTTOM
BAND_ORGANIZATION: SINGLE FILE
BAND_CONTENT: BLACK&WHITE
BAND_CONTENT: UNDEFINED
BAND_CONTENT: UNDEFINED
BITS_PER_PIXEL: 8
SAMPLES_AND_LINES: 5400 7680
HORIZONTAL_DATUM: NAD83
HORIZONTAL_COORDINATE_SYSTEM: UTM
COORDINATE_ZONE: 12
HORIZONTAL_UNITS: METERS
HORIZONTAL_RESOLUTION: 1.00000
SECONDARY_HORIZONTAL_DATUM: NAD27
XY_ORIGIN: 398430.00000 5400900.00000
SECONDARY_XY_ORIGIN: 398492.24500 5400681.42200
NATION: US
STATE: MT
NW_QUAD_CORNER_XY: 398927.90200 5400576.97000
NE_QUAD_CORNER_XY: 403521.98200 5400495.94900
SE_QUAD_CORNERY_XY: 403402.36700 5393548.69500
SW_QUAD_CORNER_XY: 398802.59000 5393629.73900
SECONDARY_NW_QUAD_XY: 398924.67200 5400358.00100
SECONDARY_NE_QUAD_XY: 403518.89900 5400276.97700
SECONDARY_SE_QUAD_XY: 403399.28400 5393329.72800
SECONDARY_SW_QUAD_XY: 398799.36000 5393410.77500
RMSE_XY: 0.98000
IMAGE_SOURCE: BLACK AND WHITE FILM
SOURCE_IMAGE_ID: NAPP 8381 69
SOURCE_IMAGE_DATE: 1995 07 28
SOURCE_DEM_DATE: 1992 00 00
AGENCY: WESTERN MAPPING CENTER (WMC)
PRODUCER: ANALYTICAL SURVEYS INC.
PRODUCTION_SYSTEM: ORBIT OR_RECTIFY V.5.2
COMPRESSION: UNDEFINED
STANDARD_VERSION: 1996 12
METADATA_DATE: 1998 12 08
DATA_FILE_SIZE: 41477400
BYTE_COUNT: 5400
