FILENAME: O4811222.SWS.938462.tif
QUADRANGLE_NAME: CUT BANK
QUADRANT: SW
WEST_LONGITUDE: -112 22 30.00000
EAST_LONGITUDE: -112 18 45.00000
NORTH_LATITUDE: 48 41 15.00000
SOUTH_LATITUDE: 48 37 30.00000
PRODUCTION_DATE: 1998 12 07
RASTER_ORDER: LEFT_RIGHT/TOP_BOTTOM
BAND_ORGANIZATION: SINGLE FILE
BAND_CONTENT: BLACK&WHITE
BAND_CONTENT: UNDEFINED
BAND_CONTENT: UNDEFINED
BITS_PER_PIXEL: 8
SAMPLES_AND_LINES: 5400 7650
HORIZONTAL_DATUM: NAD83
HORIZONTAL_COORDINATE_SYSTEM: UTM
COORDINATE_ZONE: 12
HORIZONTAL_UNITS: METERS
HORIZONTAL_RESOLUTION: 1.00000
SECONDARY_HORIZONTAL_DATUM: NAD27
XY_ORIGIN: 398310.00000 5393940.00000
SECONDARY_XY_ORIGIN: 398372.19000 5393721.57200
NATION: US
STATE: MT
NW_QUAD_CORNER_XY: 398802.59000 5393629.73900
NE_QUAD_CORNER_XY: 403402.36700 5393548.69500
SE_QUAD_CORNERY_XY: 403282.86900 5386601.51300
SW_QUAD_CORNER_XY: 398677.39900 5386682.57900
SECONDARY_NW_QUAD_XY: 398799.36000 5393410.77500
SECONDARY_NE_QUAD_XY: 403399.28400 5393329.72800
SECONDARY_SE_QUAD_XY: 403279.78600 5386382.55200
SECONDARY_SW_QUAD_XY: 398674.16900 5386463.62200
RMSE_XY: 1.39000
IMAGE_SOURCE: BLACK AND WHITE FILM
SOURCE_IMAGE_ID: NAPP 8381 71
SOURCE_IMAGE_DATE: 1995 07 28
SOURCE_DEM_DATE: 1992 00 00
AGENCY: WESTERN MAPPING CENTER (WMC)
PRODUCER: ANALYTICAL SURVEYS INC.
PRODUCTION_SYSTEM: ORBIT OR_RECTIFY V.5.2
COMPRESSION: UNDEFINED
STANDARD_VERSION: 1996 12
METADATA_DATE: 1998 12 08
DATA_FILE_SIZE: 41315400
BYTE_COUNT: 5400
