FILENAME: O4811221.SES.938437.tif
QUADRANGLE_NAME: GUNSIGHT
QUADRANT: SE
WEST_LONGITUDE: -112 26 15.00000
EAST_LONGITUDE: -112 22 30.00000
NORTH_LATITUDE: 48 41 15.00000
SOUTH_LATITUDE: 48 37 30.00000
PRODUCTION_DATE: 1998 12 07
RASTER_ORDER: LEFT_RIGHT/TOP_BOTTOM
BAND_ORGANIZATION: SINGLE FILE
BAND_CONTENT: BLACK&WHITE
BAND_CONTENT: UNDEFINED
BAND_CONTENT: UNDEFINED
BITS_PER_PIXEL: 8
SAMPLES_AND_LINES: 5430 7650
HORIZONTAL_DATUM: NAD83
HORIZONTAL_COORDINATE_SYSTEM: UTM
COORDINATE_ZONE: 12
HORIZONTAL_UNITS: METERS
HORIZONTAL_RESOLUTION: 1.00000
SECONDARY_HORIZONTAL_DATUM: NAD27
XY_ORIGIN: 393690.00000 5394030.00000
SECONDARY_XY_ORIGIN: 393752.29400 5393811.58800
NATION: US
STATE: MT
NW_QUAD_CORNER_XY: 394202.82800 5393714.55400
NE_QUAD_CORNER_XY: 398802.59000 5393629.73900
SE_QUAD_CORNERY_XY: 398677.39900 5386682.57900
SW_QUAD_CORNER_XY: 394071.94500 5386767.41800
SECONDARY_NW_QUAD_XY: 394199.45100 5393495.59300
SECONDARY_NE_QUAD_XY: 398799.36000 5393410.77500
SECONDARY_SE_QUAD_XY: 398674.16900 5386463.62200
SECONDARY_SW_QUAD_XY: 394068.56800 5386548.46300
RMSE_XY: 1.32000
IMAGE_SOURCE: BLACK AND WHITE FILM
SOURCE_IMAGE_ID: NAPP 8384 73
SOURCE_IMAGE_DATE: 1995 08 04
SOURCE_DEM_DATE: 1966 00 00
AGENCY: WESTERN MAPPING CENTER (WMC)
PRODUCER: ANALYTICAL SURVEYS INC.
PRODUCTION_SYSTEM: ORBIT OR_RECTIFY V.5.2
COMPRESSION: UNDEFINED
STANDARD_VERSION: 1996 12
METADATA_DATE: 1998 12 09
DATA_FILE_SIZE: 41544930
BYTE_COUNT: 5430
