FILENAME: O4811220.SES.938425.tif
QUADRANGLE_NAME: SUNDANCE
QUADRANT: SE
WEST_LONGITUDE: -112 33 45.00000
EAST_LONGITUDE: -112 30 0.00000
NORTH_LATITUDE: 48 41 15.00000
SOUTH_LATITUDE: 48 37 30.00000
PRODUCTION_DATE: 1998 11 25
RASTER_ORDER: LEFT_RIGHT/TOP_BOTTOM
BAND_ORGANIZATION: SINGLE FILE
BAND_CONTENT: BLACK&WHITE
BAND_CONTENT: UNDEFINED
BAND_CONTENT: UNDEFINED
BITS_PER_PIXEL: 8
SAMPLES_AND_LINES: 5430 7680
HORIZONTAL_DATUM: NAD83
HORIZONTAL_COORDINATE_SYSTEM: UTM
COORDINATE_ZONE: 12
HORIZONTAL_UNITS: METERS
HORIZONTAL_RESOLUTION: 1.00000
SECONDARY_HORIZONTAL_DATUM: NAD27
XY_ORIGIN: 384480.00000 5394210.00000
SECONDARY_XY_ORIGIN: 384542.49900 5393991.63900
NATION: US
STATE: MT
NW_QUAD_CORNER_XY: 385003.35200 5393895.49700
NE_QUAD_CORNER_XY: 389603.08200 5393803.14000
SE_QUAD_CORNERY_XY: 389466.50600 5386856.02800
SW_QUAD_CORNER_XY: 384861.08400 5386948.41100
SECONDARY_NW_QUAD_XY: 384999.68200 5393676.54100
SECONDARY_NE_QUAD_XY: 389599.55800 5393584.18100
SECONDARY_SE_QUAD_XY: 389462.98300 5386637.07600
SECONDARY_SW_QUAD_XY: 384857.41300 5386729.46100
RMSE_XY: 1.07700
IMAGE_SOURCE: BLACK AND WHITE FILM
SOURCE_IMAGE_ID: NAPP 8384 191
SOURCE_IMAGE_DATE: 1995 08 05
SOURCE_DEM_DATE: 1968 01 01
AGENCY: WESTERN MAPPING CENTER (WMC)
PRODUCER: ANALYTICAL SURVEYS INC.
PRODUCTION_SYSTEM: ORBIT OR_RECTIFY V.5.2
COMPRESSION: UNDEFINED
STANDARD_VERSION: 1996 12
METADATA_DATE: 1998 12 10
DATA_FILE_SIZE: 41707830
BYTE_COUNT: 5430
