FILENAME: O4811219.NWS.938412.tif
QUADRANGLE_NAME: FORT PIEGAN
QUADRANT: NW
WEST_LONGITUDE: -112 45 0.00000
EAST_LONGITUDE: -112 41 15.00000
NORTH_LATITUDE: 48 45 0.00000
SOUTH_LATITUDE: 48 41 15.00000
PRODUCTION_DATE: 1998 11 18
RASTER_ORDER: LEFT_RIGHT/TOP_BOTTOM
BAND_ORGANIZATION: SINGLE FILE
BAND_CONTENT: BLACK&WHITE
BAND_CONTENT: UNDEFINED
BAND_CONTENT: UNDEFINED
BITS_PER_PIXEL: 8
SAMPLES_AND_LINES: 5430 7680
HORIZONTAL_DATUM: NAD83
HORIZONTAL_COORDINATE_SYSTEM: UTM
COORDINATE_ZONE: 12
HORIZONTAL_UNITS: METERS
HORIZONTAL_RESOLUTION: 1.00000
SECONDARY_HORIZONTAL_DATUM: NAD27
XY_ORIGIN: 370830.00000 5401470.00000
SECONDARY_XY_ORIGIN: 370892.90300 5401251.54900
NATION: US
STATE: MT
NW_QUAD_CORNER_XY: 371363.77500 5401142.26700
NE_QUAD_CORNER_XY: 375957.75100 5401038.62500
SE_QUAD_CORNERY_XY: 375803.94700 5394091.52400
SW_QUAD_CORNER_XY: 371204.27200 5394195.19500
SECONDARY_NW_QUAD_XY: 371359.66400 5400923.31600
SECONDARY_NE_QUAD_XY: 375953.78700 5400819.67100
SECONDARY_SE_QUAD_XY: 375799.98300 5393872.57500
SECONDARY_SW_QUAD_XY: 371200.16100 5393976.24900
RMSE_XY: 1.65600
IMAGE_SOURCE: BLACK AND WHITE FILM
SOURCE_IMAGE_ID: NAPP 8385 83
SOURCE_IMAGE_DATE: 1995 08 05
SOURCE_IMAGE_ID: NAPP 8385 85
SOURCE_IMAGE_DATE: 1995 08 05
SOURCE_DEM_DATE: 1968 00 00
AGENCY: WESTERN MAPPING CENTER (WMC)
PRODUCER: ANALYTICAL SURVEYS INC.
PRODUCTION_SYSTEM: ORBIT OR_RECTIFY V.5.2
COMPRESSION: UNDEFINED
STANDARD_VERSION: 1996 12
METADATA_DATE: 1998 12 09
DATA_FILE_SIZE: 41707830
BYTE_COUNT: 5430
