FILENAME: O4811218.NWS.945063.tif
QUADRANGLE_NAME: RIMROCK BUTTE
QUADRANT: NW
WEST_LONGITUDE: -112 52 30.00000
EAST_LONGITUDE: -112 48 45.00000
NORTH_LATITUDE: 48 45 0.00000
SOUTH_LATITUDE: 48 41 15.00000
PRODUCTION_DATE: 1998 10 02
RASTER_ORDER: LEFT_RIGHT/TOP_BOTTOM
BAND_ORGANIZATION: SINGLE FILE
BAND_CONTENT: BLACK&WHITE
BAND_CONTENT: UNDEFINED
BAND_CONTENT: UNDEFINED
BITS_PER_PIXEL: 8
SAMPLES_AND_LINES: 5460 7680
HORIZONTAL_DATUM: NAD83
HORIZONTAL_COORDINATE_SYSTEM: UTM
COORDINATE_ZONE: 12
HORIZONTAL_UNITS: METERS
HORIZONTAL_RESOLUTION: 1.00000
SECONDARY_HORIZONTAL_DATUM: NAD27
XY_ORIGIN: 361620.00000 5401680.00000
SECONDARY_XY_ORIGIN: 361683.03900 5401461.59900
NATION: US
STATE: MT
NW_QUAD_CORNER_XY: 362175.88400 5401360.86300
NE_QUAD_CORNER_XY: 366769.81900 5401249.67900
SE_QUAD_CORNERY_XY: 366604.61600 5394302.63800
SW_QUAD_CORNER_XY: 362004.98100 5394413.85300
SECONDARY_NW_QUAD_XY: 362171.48000 5401141.91900
SECONDARY_NE_QUAD_XY: 366765.56200 5401030.73200
SECONDARY_SE_QUAD_XY: 366600.35900 5394083.69600
SECONDARY_SW_QUAD_XY: 362000.57700 5394194.91400
RMSE_XY: 0.98300
IMAGE_SOURCE: BLACK AND WHITE FILM
SOURCE_IMAGE_ID: NAPP 8385 102
SOURCE_IMAGE_DATE: 1995 08 05
SOURCE_DEM_DATE: 1968 01 01
AGENCY: WESTERN MAPPING CENTER (WMC)
PRODUCER: ANALYTICAL SURVEYS INC.
PRODUCTION_SYSTEM: ORBIT OR_RECTIFY V.5.2
COMPRESSION: UNDEFINED
STANDARD_VERSION: 1996 12
METADATA_DATE: 1998 10 02
DATA_FILE_SIZE: 41938260
BYTE_COUNT: 5460
